BEGIN:VCALENDAR
VERSION:2.0
PRODID:-//Desert Ridge Marketplace - ECPv6.15.20//NONSGML v1.0//EN
CALSCALE:GREGORIAN
METHOD:PUBLISH
X-WR-CALNAME:Desert Ridge Marketplace
X-ORIGINAL-URL:https://shopdesertridge.com
X-WR-CALDESC:Events for Desert Ridge Marketplace
REFRESH-INTERVAL;VALUE=DURATION:PT1H
X-Robots-Tag:noindex
X-PUBLISHED-TTL:PT1H
BEGIN:VTIMEZONE
TZID:America/Phoenix
BEGIN:STANDARD
TZOFFSETFROM:-0700
TZOFFSETTO:-0700
TZNAME:MST
DTSTART:20230101T000000
END:STANDARD
END:VTIMEZONE
BEGIN:VEVENT
DTSTART;VALUE=DATE:20250701
DTEND;VALUE=DATE:20260101
DTSTAMP:20260421T093142
CREATED:20250702T162319Z
LAST-MODIFIED:20250702T162319Z
UID:10008642-1751328000-1767225599@shopdesertridge.com
SUMMARY:Music at Backyard
DESCRIPTION:Thursday – Sunday \nExperience the ultimate weekend vibe at Backyard! From Thursday to Sunday\, immerse yourself in live music performances that set the perfect tone for your evenings. Saturdays are elevated with dynamic DJ spinning tracks from 10PM until close\, complemented by exciting beer pong and interactive games. Join Backyard for unforgettable nights filled with rhythm\, fun\, and camaraderie!
URL:https://shopdesertridge.com/event/music-at-backyard/
LOCATION:Backyard
ATTACH;FMTTYPE=image/jpeg:https://shopdesertridge.com/wp-content/uploads/2024/12/Backyard-Sneak-Peeks-01.jpg
END:VEVENT
BEGIN:VEVENT
DTSTART;VALUE=DATE:20250701
DTEND;VALUE=DATE:20260101
DTSTAMP:20260421T093142
CREATED:20250702T161955Z
LAST-MODIFIED:20250702T161955Z
UID:10008641-1751328000-1767225599@shopdesertridge.com
SUMMARY:Triva Tuesdays at Backyard
DESCRIPTION:Tuesdays | 7PM – 9PM \nTest your knowledge and win big at Trivia Tuesday\, every week from 7PM–9PM! Enjoy unbeatable drink specials including $25 domestic beer buckets\, $30 import buckets\, $30 domestic towers\, $35 import towers\, and $40 craft towers. Want a spot with a view? Snag a treehouse for just $45! Specials are available one hour before\, during\, and one hour after trivia—so come early\, stay late\, and bring your A-game! \nLEARN MORE HERE
URL:https://shopdesertridge.com/event/triva-tuesdays-at-backyard-2/
LOCATION:Backyard
ATTACH;FMTTYPE=image/jpeg:https://shopdesertridge.com/wp-content/uploads/2025/04/219A8531-scaled.jpg
END:VEVENT
BEGIN:VEVENT
DTSTART;VALUE=DATE:20250504
DTEND;VALUE=DATE:20250505
DTSTAMP:20260421T093142
CREATED:20250429T202446Z
LAST-MODIFIED:20250429T202553Z
UID:10008627-1746316800-1746403199@shopdesertridge.com
SUMMARY:Cinco De Mayo at Backyard
DESCRIPTION:Sunday\, May 4 \nJoin Backyard for the fiesta and enjoy all-day specials: $30 Dos XX Buckets\, $35 Dos XX Beer Towers & $12 Teremana Blanco Tequila! Learn more here.
URL:https://shopdesertridge.com/event/cinco-de-mayo-at-backyard/
LOCATION:Backyard
ATTACH;FMTTYPE=image/jpeg:https://shopdesertridge.com/wp-content/uploads/2025/04/219A8531-scaled.jpg
END:VEVENT
BEGIN:VEVENT
DTSTART;VALUE=DATE:20250407
DTEND;VALUE=DATE:20250408
DTSTAMP:20260421T093142
CREATED:20250311T191448Z
LAST-MODIFIED:20250402T230944Z
UID:10008596-1743984000-1744070399@shopdesertridge.com
SUMMARY:NCAA National Championship at Backyard
DESCRIPTION:Monday\, April 7 | 5:50PM \nCatch the NCAA National Championship with Backyard! They’ll have the game on every screen—don’t miss a moment of the action! Meet your friends at Backyard\, where the game is always on! Park it in front of one of our massive TVs or challenge your friends to a game of your own in our open-air playground. \nMAKE RESERVATIONS HERE or CALL AT (480) 585 – 5900 \n \n 
URL:https://shopdesertridge.com/event/ncaa-national-championship-at-backyard/
LOCATION:Backyard
ATTACH;FMTTYPE=image/jpeg:https://shopdesertridge.com/wp-content/uploads/2025/03/AKB00931-1-scaled.jpg
END:VEVENT
BEGIN:VEVENT
DTSTART;VALUE=DATE:20250317
DTEND;VALUE=DATE:20250318
DTSTAMP:20260421T093142
CREATED:20250311T190815Z
LAST-MODIFIED:20250311T190815Z
UID:10008595-1742169600-1742255999@shopdesertridge.com
SUMMARY:Saint Patrick's Celebration at Backyard
DESCRIPTION:Monday\, March 17 | 4PM \nJoin the St. Patrick’s Day celebration at Backyard! Meet your friends at Backyard\, where the game is always on! Park it in front of one of our massive TVs or challenge your friends to a game of your own in our open-air playground. \nMAKE RESERVATIONS HERE or CALL AT (480) 585 – 5900 \n \n 
URL:https://shopdesertridge.com/event/saint-patricks-celebration-at-backyard/
LOCATION:Backyard
ATTACH;FMTTYPE=image/jpeg:https://shopdesertridge.com/wp-content/uploads/2024/12/Backyard-Sneak-Peeks-01.jpg
END:VEVENT
BEGIN:VEVENT
DTSTART;VALUE=DATE:20250301
DTEND;VALUE=DATE:20250430
DTSTAMP:20260421T093142
CREATED:20250311T191755Z
LAST-MODIFIED:20250311T191925Z
UID:10008597-1740787200-1745971199@shopdesertridge.com
SUMMARY:Triva Tuesdays at Backyard
DESCRIPTION:Tuesdays | 7PM – 9PM \nTRIVIA TUESDAYS \nCome to live hosted trivia at Backyard where there is a new theme each week! Winners get a chance to win Backyard gift cards!
URL:https://shopdesertridge.com/event/triva-tuesdays-at-backyard/
LOCATION:Backyard
ATTACH;FMTTYPE=image/jpeg:https://shopdesertridge.com/wp-content/uploads/2024/12/Backyard-Sneak-Peeks-01.jpg
END:VEVENT
BEGIN:VEVENT
DTSTART;TZID=America/Phoenix:20240517T210000
DTEND;TZID=America/Phoenix:20240517T210000
DTSTAMP:20260421T093142
CREATED:20240508T013257Z
LAST-MODIFIED:20241226T212038Z
UID:10000575-1715979600-1715979600@shopdesertridge.com
SUMMARY:Backyard Trash Disco
DESCRIPTION:Get ready to groove under the neon lights at Backyard’s Trash Disco! Join Backyard for a funky night filled with irresistible beats and drink specials that’ll keep you dancing till dawn. Let’s turn up the volume – it’s time to disco like never before! \nEvent entertainment will be held inside of Backyard Restaurant and Bar on the following nights: \nFriday\, May 10 \nFriday\, May 17
URL:https://shopdesertridge.com/event/backyard-trash-disco-2024-05-17/
CATEGORIES:Culinary,DRM
ATTACH;FMTTYPE=image/png:https://shopdesertridge.com/wp-content/uploads/2024/12/BYDR_Trash_Disco_1200x800.png
END:VEVENT
BEGIN:VEVENT
DTSTART;TZID=America/Phoenix:20240510T210000
DTEND;TZID=America/Phoenix:20240510T210000
DTSTAMP:20260421T093142
CREATED:20240508T013257Z
LAST-MODIFIED:20241226T212001Z
UID:10000571-1715374800-1715374800@shopdesertridge.com
SUMMARY:Backyard Trash Disco
DESCRIPTION:Get ready to groove under the neon lights at Backyard’s Trash Disco! Join Backyard for a funky night filled with irresistible beats and drink specials that’ll keep you dancing till dawn. Let’s turn up the volume – it’s time to disco like never before! \nEvent entertainment will be held inside of Backyard Restaurant and Bar on the following nights: \nFriday\, May 10 \nFriday\, May 17
URL:https://shopdesertridge.com/event/backyard-trash-disco/
CATEGORIES:Culinary,DRM
ATTACH;FMTTYPE=image/png:https://shopdesertridge.com/wp-content/uploads/2024/12/BYDR_Trash_Disco_1200x800.png
END:VEVENT
END:VCALENDAR