BEGIN:VCALENDAR
VERSION:2.0
PRODID:-//Desert Ridge Marketplace - ECPv6.15.20//NONSGML v1.0//EN
CALSCALE:GREGORIAN
METHOD:PUBLISH
X-ORIGINAL-URL:https://shopdesertridge.com
X-WR-CALDESC:Events for Desert Ridge Marketplace
REFRESH-INTERVAL;VALUE=DURATION:PT1H
X-Robots-Tag:noindex
X-PUBLISHED-TTL:PT1H
BEGIN:VTIMEZONE
TZID:America/Phoenix
BEGIN:STANDARD
TZOFFSETFROM:-0700
TZOFFSETTO:-0700
TZNAME:MST
DTSTART:20240101T000000
END:STANDARD
END:VTIMEZONE
BEGIN:VEVENT
DTSTART;VALUE=DATE:20250701
DTEND;VALUE=DATE:20260101
DTSTAMP:20260421T191842
CREATED:20250702T161955Z
LAST-MODIFIED:20250702T161955Z
UID:10008641-1751328000-1767225599@shopdesertridge.com
SUMMARY:Triva Tuesdays at Backyard
DESCRIPTION:Tuesdays | 7PM – 9PM \nTest your knowledge and win big at Trivia Tuesday\, every week from 7PM–9PM! Enjoy unbeatable drink specials including $25 domestic beer buckets\, $30 import buckets\, $30 domestic towers\, $35 import towers\, and $40 craft towers. Want a spot with a view? Snag a treehouse for just $45! Specials are available one hour before\, during\, and one hour after trivia—so come early\, stay late\, and bring your A-game! \nLEARN MORE HERE
URL:https://shopdesertridge.com/event/triva-tuesdays-at-backyard-2/
LOCATION:Backyard
ATTACH;FMTTYPE=image/jpeg:https://shopdesertridge.com/wp-content/uploads/2025/04/219A8531-scaled.jpg
END:VEVENT
BEGIN:VEVENT
DTSTART;VALUE=DATE:20250701
DTEND;VALUE=DATE:20260101
DTSTAMP:20260421T191842
CREATED:20250702T162319Z
LAST-MODIFIED:20250702T162319Z
UID:10008642-1751328000-1767225599@shopdesertridge.com
SUMMARY:Music at Backyard
DESCRIPTION:Thursday – Sunday \nExperience the ultimate weekend vibe at Backyard! From Thursday to Sunday\, immerse yourself in live music performances that set the perfect tone for your evenings. Saturdays are elevated with dynamic DJ spinning tracks from 10PM until close\, complemented by exciting beer pong and interactive games. Join Backyard for unforgettable nights filled with rhythm\, fun\, and camaraderie!
URL:https://shopdesertridge.com/event/music-at-backyard/
LOCATION:Backyard
ATTACH;FMTTYPE=image/jpeg:https://shopdesertridge.com/wp-content/uploads/2024/12/Backyard-Sneak-Peeks-01.jpg
END:VEVENT
BEGIN:VEVENT
DTSTART;VALUE=DATE:20250907
DTEND;VALUE=DATE:20251215
DTSTAMP:20260421T191842
CREATED:20250827T211717Z
LAST-MODIFIED:20251222T162433Z
UID:10008648-1757203200-1765756799@shopdesertridge.com
SUMMARY:Sip & Watch
DESCRIPTION:Sip & Watch | Select Games | Select Times \nThe District is the place to be for game day! Get ready – The District is transforming into the ultimate sports watch zone on select days throughout the year. Cheer on your favorite teams and catch all the action on our massive LED screens at the District Stage and in The Courtyard near Copper Blues Desert Ridge. From professional matchups to college showdowns and more\, grab a drink from participating Sip & Stroll retailers\, kick back with fellow fans\, and soak up the unbeatable game day vibes. \n  \nGame broadcast will take place Thursday through Monday on select dates\, when events\, community performances\, and live music are not scheduled. Check back often for updated programming and game day viewing opportunities. \n   \n  \n\nSip & Stroll during the show! Guests aged 21+ can pop into any participating restaurant*\, order a cocktail\, beer\, or wine\, and enjoy it in designated outdoor areas in The District at Desert Ridge Marketplace. Participants include: Marino’s Italian Kitchen & Bar\, Copper Blues Desert Ridge\, Fat Tuesday\, Whining Pig Beer & Wine Bar\, Yard House\, and Islands.\nLearn more about the program HERE.
URL:https://shopdesertridge.com/event/sip-watch/
LOCATION:District Stage
ATTACH;FMTTYPE=image/jpeg:https://shopdesertridge.com/wp-content/uploads/2025/08/VES_DRM_SipWatch_2026FacebookEvent_1.jpg
END:VEVENT
BEGIN:VEVENT
DTSTART;TZID=America/Phoenix:20250917T190000
DTEND;TZID=America/Phoenix:20250917T210000
DTSTAMP:20260421T191842
CREATED:20250905T201926Z
LAST-MODIFIED:20250910T201541Z
UID:10008651-1758135600-1758142800@shopdesertridge.com
SUMMARY:The Summer I Turned Pretty Watch Party
DESCRIPTION:The Summer I Turned Pretty| Live FREE Watch Party | The District Stage  \nWho will Belly end up with\, Conrad or Jeremiah?  Don’t miss your chance to watch the drama unfold on the big screen with fans just as obsessed as you are. \nLive showing dates: \nFinale: Wednesday\, September 17 at 7PM \nFREE Event! Free popcorn while supplies last\, First-come first-serve seating – limited chairs available\, bring your own blanket or chairs\, Sip & Stroll Bar on site\, Surprises and more! \nGET YOUR FREE TICKETS HERE \nThis is your last chance to experience The Summer I Turned Pretty with the ultimate watch party vibe—don’t be the one who hears how it ends instead of seeing it live!
URL:https://shopdesertridge.com/event/sitp/
LOCATION:District Stage
CATEGORIES:Movie Nights
ATTACH;FMTTYPE=image/webp:https://shopdesertridge.com/wp-content/uploads/2025/09/0x0.webp
END:VEVENT
BEGIN:VEVENT
DTSTART;TZID=America/Phoenix:20250919T180000
DTEND;TZID=America/Phoenix:20250919T210000
DTSTAMP:20260421T191842
CREATED:20241031T021922Z
LAST-MODIFIED:20250804T183514Z
UID:10000795-1758304800-1758315600@shopdesertridge.com
SUMMARY:Live Music: The Flare
DESCRIPTION:Join us for a night of Live Music at the District Stage featuring The Flare! \nThe Flare is a popular live music band based in Tempe\, AZ.  They play feel-good rock\, pop and dance music. The Flare plays live music throughout the year for the Arizona Diamondbacks\, Phoenix 10K Marathon\, Tempe Lakes Beach and Tennis Club\, Pier 54 and other venues and events in and around the Valley.    \n \n\nSip & Stroll during the show! Guests aged 21+ can pop into any participating restaurant*\, order a cocktail\, beer\, or wine\, and enjoy it in designated outdoor areas in The District at Desert Ridge Marketplace. Participants include: Marino’s Italian Kitchen & Bar\, Copper Blues Desert Ridge\, Fat Tuesday\, Whining Pig Beer & Wine Bar\, Yard House\, and Islands.\nLearn more about the program HERE.
URL:https://shopdesertridge.com/event/live-music-the-flare/
LOCATION:The District Stage
CATEGORIES:DRM,Live Music
ATTACH;FMTTYPE=image/jpeg:https://shopdesertridge.com/wp-content/uploads/2025/02/LiveMusic-v2-Website.jpg
END:VEVENT
BEGIN:VEVENT
DTSTART;VALUE=DATE:20250920
DTEND;VALUE=DATE:20250922
DTSTAMP:20260421T191842
CREATED:20250818T214422Z
LAST-MODIFIED:20250818T214422Z
UID:10008646-1758326400-1758499199@shopdesertridge.com
SUMMARY:30th Anniversary Celebration
DESCRIPTION:Saturday & Sunday\, September 20th & 21st | 30th Anniversary Celebration.  \nCome celebrate at As You Wish for their 30-year Anniversary! \nThis is a two-day weekend celebration where you can spin the prize wheel for a guaranteed win at checkout and grab your family fun pass for only $19.95. This fun pass is good for all 8 studio fees and never expires! \nPlus\, help support Make-A-Wish by purchasing a $1 star in-studio-donations are matched dollar for dollar all month long! \nYou must reserve your table in advance. Reserve your table HERE
URL:https://shopdesertridge.com/event/30th-anniversary-celebration/
LOCATION:As You Wish Pottery
ATTACH;FMTTYPE=image/jpeg:https://shopdesertridge.com/wp-content/uploads/2025/08/BT3A6345-1-scaled.jpg
END:VEVENT
BEGIN:VEVENT
DTSTART;TZID=America/Phoenix:20250920T180000
DTEND;TZID=America/Phoenix:20250920T210000
DTSTAMP:20260421T191842
CREATED:20250416T211927Z
LAST-MODIFIED:20250804T183338Z
UID:10008616-1758391200-1758402000@shopdesertridge.com
SUMMARY:Live Music: Chris Yak
DESCRIPTION:Join us for a night of Live Music at the District Stage featuring Chris Yak! \nChris Yak Acoustic performs acoustic versions of a variety of popular country\, rock\, and pop covers and features live looping. \n \n\nSip & Stroll during the show! Guests aged 21+ can pop into any participating restaurant*\, order a cocktail\, beer\, or wine\, and enjoy it in designated outdoor areas in The District at Desert Ridge Marketplace. Participants include: Marino’s Italian Kitchen & Bar\, Copper Blues Desert Ridge\, Fat Tuesday\, Whining Pig Beer & Wine Bar\, Yard House\, and Islands.\nLearn more about the program HERE.
URL:https://shopdesertridge.com/event/live-music-chris-yak/
LOCATION:The District Stage
CATEGORIES:DRM,Live Music
ATTACH;FMTTYPE=image/jpeg:https://shopdesertridge.com/wp-content/uploads/2025/02/LiveMusic-v2-Website.jpg
END:VEVENT
END:VCALENDAR