BEGIN:VCALENDAR
VERSION:2.0
PRODID:-//Desert Ridge Marketplace - ECPv6.15.20//NONSGML v1.0//EN
CALSCALE:GREGORIAN
METHOD:PUBLISH
X-ORIGINAL-URL:https://shopdesertridge.com
X-WR-CALDESC:Events for Desert Ridge Marketplace
REFRESH-INTERVAL;VALUE=DURATION:PT1H
X-Robots-Tag:noindex
X-PUBLISHED-TTL:PT1H
BEGIN:VTIMEZONE
TZID:America/Phoenix
BEGIN:STANDARD
TZOFFSETFROM:-0700
TZOFFSETTO:-0700
TZNAME:MST
DTSTART:20240101T000000
END:STANDARD
END:VTIMEZONE
BEGIN:VEVENT
DTSTART;VALUE=DATE:20250504
DTEND;VALUE=DATE:20250728
DTSTAMP:20260424T052245
CREATED:20250429T205941Z
LAST-MODIFIED:20250610T164041Z
UID:10008629-1746316800-1753660799@shopdesertridge.com
SUMMARY:Boots & Boutique Sundays at Foley Ranch
DESCRIPTION:Sundays | 11AM – 3PM \nShop\, Relax and Thrive at Foley Ranch! On Sundays\, enjoy: \n\nLive Music\nBottomless Mimosas\nVintage & Craft Boutiques\nEnjoy Brunch and $3 Off All Starters
URL:https://shopdesertridge.com/event/boots-boutique-sundays-at-foley-ranch/
LOCATION:Foley Ranch
ATTACH;FMTTYPE=image/jpeg:https://shopdesertridge.com/wp-content/uploads/2025/04/0Y7A1163-1.jpg
END:VEVENT
BEGIN:VEVENT
DTSTART;TZID=America/Phoenix:20250619T190000
DTEND;TZID=America/Phoenix:20250619T213000
DTSTAMP:20260424T052245
CREATED:20250520T172618Z
LAST-MODIFIED:20250619T201814Z
UID:10008634-1750359600-1750368600@shopdesertridge.com
SUMMARY:Block Party Series: The Boot Scootin' Country Bash
DESCRIPTION:*EVENT SOLD OUT* \nThe Boot Scootin’ Country Bash | Thursday\, June 19th | 7PM – 9:30PM \nFamily Friendly Event | Children Under 10 Do Not Need a Ticket \nBlock Party Series | Located at The District Stage | Select Thursdays  \n\nLine Dancing with Foley Ranch\nLive DJ\nDIY Cowboy Hats\nAll Ages Welcome\, Family Friendly\nSip & Stroll Mobile Bar for 21+\nCountry Attire Highly Encouraged\n\nBlock Party Series takes over The District Stage on select Thursdays this summer at Desert Ridge Marketplace. At this free ticketed event\, enjoy high-energy themed DJ beats\, dancing with friends\, inspired DIY crafts\, and more exciting surprises for all ages! \nEVENT SOLD OUT\n\nTicketing Disclaimer: Please note EventBrite is the only authorized source for tickets to this event. Tickets are free\, and we will never request payment at any point during the ticketing process. Do not purchase or resell tickets though third-party platforms or individuals – any tickets obtained this way will not be accepted and will be considered invalid. \nThis is a free event. Tickets are limited and available on a first-come\, first-served basis. As of June 4th\, 2025\, Due to high demand\, a maximum of 2* tickets is allowed per person. Tickets have no monetary value and are not to be resold under any circumstances. Any tickets obtained through resale or unauthorized third parties will be considered void and will not be honored at the event. Event organizers reserve the right to verify ticket holders’ identities at check-in. \n\nSip & Stroll during the event! Guests aged 21+ can pop into any participating restaurant*\, order a cocktail\, beer\, or wine\, and enjoy it in designated outdoor areas in The District at Desert Ridge Marketplace. Participants include: Marino’s Italian Kitchen & Bar\, Copper Blues Desert Ridge\, Fat Tuesday\, Whining Pig Beer & Wine Bar\, Yard House\, and Islands.\nLearn more about the program HERE.
URL:https://shopdesertridge.com/event/block-party-series-the-boot-scootin-country-bash/
LOCATION:District Stage
CATEGORIES:Block Party Series
ATTACH;FMTTYPE=image/png:https://shopdesertridge.com/wp-content/uploads/2025/05/Untitled-1200-x-800-px.png
END:VEVENT
END:VCALENDAR