BEGIN:VCALENDAR
VERSION:2.0
PRODID:-//Desert Ridge Marketplace - ECPv6.15.20//NONSGML v1.0//EN
CALSCALE:GREGORIAN
METHOD:PUBLISH
X-WR-CALNAME:Desert Ridge Marketplace
X-ORIGINAL-URL:https://shopdesertridge.com
X-WR-CALDESC:Events for Desert Ridge Marketplace
REFRESH-INTERVAL;VALUE=DURATION:PT1H
X-Robots-Tag:noindex
X-PUBLISHED-TTL:PT1H
BEGIN:VTIMEZONE
TZID:America/Phoenix
BEGIN:STANDARD
TZOFFSETFROM:-0700
TZOFFSETTO:-0700
TZNAME:MST
DTSTART:20220101T000000
END:STANDARD
END:VTIMEZONE
BEGIN:VEVENT
DTSTART;TZID=America/Phoenix:20230615T173000
DTEND;TZID=America/Phoenix:20230615T190000
DTSTAMP:20260423T011844
CREATED:20230516T114539Z
LAST-MODIFIED:20241226T203535Z
UID:10000523-1686850200-1686855600@shopdesertridge.com
SUMMARY:Seaside Soiree Summer Series - National Foam Day
DESCRIPTION:Seaside Soiree Summer Series\nSelect Thursdays | The Splash Pad \nCool Off at the foam zone at The Splash Pad and enjoy DJ hits\, summer giveaways and more. \n*The foam zone has been moved back to the Splash Pad for the remaining event dates. \nPlus\, Save The Date for the Desert Ridge Luau on Thursday\, July 13! \n  \nNext Event: Thursday\, June 15 | 5:30pm – 7:00pm – National Foam Day \nThursday\, June 29 | 10:00am – 11:30am – Special Day Event  \nThursday\, July 13 | 5:30pm – 7:30pm – Desert Ridge Luau Finale: Say farewell to summer and enjoy photos with Moana\, Polynesian Performances\, Fire Dancers\, Giveaways & More.  \n  \n*Please come prepared for the anticipated weather. Water shoes and attire are highly recommended if you plan to participate in the foam zone in the AMC Lawn or Splash Pad. Funergy will be the onsite DJ and play hits throughout the event. Enter to win a summer family fun giveaway at each event date.
URL:https://shopdesertridge.com/event/seasidesoireesummer-2023-06-15/
CATEGORIES:DRM,Signature
ATTACH;FMTTYPE=image/jpeg:https://shopdesertridge.com/wp-content/uploads/2024/12/SummerSeries-Website-1.jpg
END:VEVENT
BEGIN:VEVENT
DTSTART;TZID=America/Phoenix:20230617T100000
DTEND;TZID=America/Phoenix:20230617T120000
DTSTAMP:20260423T011844
CREATED:20230609T041219Z
LAST-MODIFIED:20241226T222835Z
UID:10000849-1686996000-1687003200@shopdesertridge.com
SUMMARY:Cause For Paws
DESCRIPTION:Cause for Paws\nSelect Dates | 10AM – 12PM\nNear PetSmart \nKSLX and Fulton Homes partner to host Cause for Paws at Desert Ridge Marketplace. Pet Owners are invited to grab a pair of protective booties for their furry friends while supplies last. \n  \n\nSaturday\, June 17 | 10AM-12PM \nSaturday\, August 26 | 10AM-12PM\n\n 
URL:https://shopdesertridge.com/event/cause-for-paws/
CATEGORIES:DRM
ATTACH;FMTTYPE=image/png:https://shopdesertridge.com/wp-content/uploads/2024/12/Untitled-design-16.png
END:VEVENT
END:VCALENDAR