BEGIN:VCALENDAR
VERSION:2.0
PRODID:-//Desert Ridge Marketplace - ECPv6.15.20//NONSGML v1.0//EN
CALSCALE:GREGORIAN
METHOD:PUBLISH
X-ORIGINAL-URL:https://shopdesertridge.com
X-WR-CALDESC:Events for Desert Ridge Marketplace
REFRESH-INTERVAL;VALUE=DURATION:PT1H
X-Robots-Tag:noindex
X-PUBLISHED-TTL:PT1H
BEGIN:VTIMEZONE
TZID:America/Phoenix
BEGIN:STANDARD
TZOFFSETFROM:-0700
TZOFFSETTO:-0700
TZNAME:MST
DTSTART:20240101T000000
END:STANDARD
END:VTIMEZONE
BEGIN:VEVENT
DTSTART;TZID=America/Phoenix:20251213T190000
DTEND;TZID=America/Phoenix:20251224T200000
DTSTAMP:20260419T234148
CREATED:20191118T232155Z
LAST-MODIFIED:20251029T222922Z
UID:10000003-1765652400-1766606400@shopdesertridge.com
SUMMARY:12 Days of Snowfall
DESCRIPTION:12 Days of Snowfall\nDecember 13 – December 24\nInside The District at Desert Ridge Marketplace near AMC Theatres \n  \nDesert Ridge Marketplace is transformed into a winter wonderland with 12 Days of Snowfall from December 13 to December 24! Nightly snowfalls will occur at 7pm and 8pm – enjoy a 10-minute holiday experience with music and magical snow. \nPlus\, it’s snowing every hour on the hour on Christmas Eve from 11am – 8pm. \n  \nLOCATION:\n12 Days of Snowfall will now occur at the east end of The District in the AMC Lawn near AMC Theatres \nDesert Ridge Marketplace\n21001 N Tatum Blvd\nPhoenix\, AZ 85050 \n  \n\n		\n		\n			\n				\n			\n			\n				\n			\n			\n				\n			\n		\n\n  \n  \n 
URL:https://shopdesertridge.com/event/snowfall/
LOCATION:AMC Lawn
CATEGORIES:DRM,Holiday Events
ATTACH;FMTTYPE=image/jpeg:https://shopdesertridge.com/wp-content/uploads/2019/11/Image-16.jpg
END:VEVENT
END:VCALENDAR