BEGIN:VCALENDAR
VERSION:2.0
PRODID:-//Desert Ridge Marketplace - ECPv6.15.20//NONSGML v1.0//EN
CALSCALE:GREGORIAN
METHOD:PUBLISH
X-WR-CALNAME:Desert Ridge Marketplace
X-ORIGINAL-URL:https://shopdesertridge.com
X-WR-CALDESC:Events for Desert Ridge Marketplace
REFRESH-INTERVAL;VALUE=DURATION:PT1H
X-Robots-Tag:noindex
X-PUBLISHED-TTL:PT1H
BEGIN:VTIMEZONE
TZID:America/Phoenix
BEGIN:STANDARD
TZOFFSETFROM:-0700
TZOFFSETTO:-0700
TZNAME:MST
DTSTART:20230101T000000
END:STANDARD
END:VTIMEZONE
BEGIN:VEVENT
DTSTART;TZID=America/Phoenix:20251115T100000
DTEND;TZID=America/Phoenix:20251115T160000
DTSTAMP:20260421T102456
CREATED:20231102T023659Z
LAST-MODIFIED:20251027T174649Z
UID:10000453-1763200800-1763222400@shopdesertridge.com
SUMMARY:Fashion Week 4 Kids
DESCRIPTION:The 10th annual Fashion Week 4 Kids returns to the valley on Saturday\, November 15 at Desert Ridge Marketplace! \nThis is a free\, family-friendly event for all to enjoy. The festivities include a full day of fashion shows\, entertainment\, and children’s activities. \nFW4Kids caters to children\, families\, and the fashion industry by showcasing high-quality entertainment and current children’s fashion collections from national designers and brands. \nEnjoy the Children’s Entrepreneur Market in The District!
URL:https://shopdesertridge.com/event/fw4kids/
LOCATION:The District Stage
CATEGORIES:DRM,Festival,Live Music
ATTACH;FMTTYPE=image/png:https://shopdesertridge.com/wp-content/uploads/2023/11/Event-Image-DRM-1020x680-FW4K-2025-1-1.png
END:VEVENT
BEGIN:VEVENT
DTSTART;TZID=America/Phoenix:20240825T100000
DTEND;TZID=America/Phoenix:20240825T120000
DTSTAMP:20260421T102456
CREATED:20230726T043713Z
LAST-MODIFIED:20241226T204907Z
UID:10000496-1724580000-1724587200@shopdesertridge.com
SUMMARY:Fashion Week 4 Kids Casting Call
DESCRIPTION:Desert Ridge Marketplace is partnering with Steve LeVine Entertainment to host the Annual Fashion Week 4 Kids at The District Stage this November! \nOpen casting calls will be held for children ages 5-12 years old who are interested in walking in the fashion shows. This year’s panel will be hosted by FORD/ Robert Black Agency. \nThere is a $25 registration fee for each child. Pre-registration and experience are not required. \n  \nDate: Sunday\, August 18\nLocation: East of Dave & Buster’s\nTime: 10AM-12PM \nDate: Sunday\, August 25\nLocation:  East of Dave & Buster’s\nTime: 10AM-12PM \n  \nLearn more HERE. 
URL:https://shopdesertridge.com/event/fw4kidscastingcalls-8-25/
CATEGORIES:DRM
ATTACH;FMTTYPE=image/png:https://shopdesertridge.com/wp-content/uploads/2024/12/CastingCallFeedPost1_1080x1080_FW4K_2024.png
END:VEVENT
END:VCALENDAR