BEGIN:VCALENDAR
VERSION:2.0
PRODID:-//Desert Ridge Marketplace - ECPv6.15.20//NONSGML v1.0//EN
CALSCALE:GREGORIAN
METHOD:PUBLISH
X-ORIGINAL-URL:https://shopdesertridge.com
X-WR-CALDESC:Events for Desert Ridge Marketplace
REFRESH-INTERVAL;VALUE=DURATION:PT1H
X-Robots-Tag:noindex
X-PUBLISHED-TTL:PT1H
BEGIN:VTIMEZONE
TZID:America/Phoenix
BEGIN:STANDARD
TZOFFSETFROM:-0700
TZOFFSETTO:-0700
TZNAME:MST
DTSTART:20240101T000000
END:STANDARD
END:VTIMEZONE
BEGIN:VEVENT
DTSTART;VALUE=DATE:20250701
DTEND;VALUE=DATE:20260101
DTSTAMP:20260421T184839
CREATED:20250702T161955Z
LAST-MODIFIED:20250702T161955Z
UID:10008641-1751328000-1767225599@shopdesertridge.com
SUMMARY:Triva Tuesdays at Backyard
DESCRIPTION:Tuesdays | 7PM – 9PM \nTest your knowledge and win big at Trivia Tuesday\, every week from 7PM–9PM! Enjoy unbeatable drink specials including $25 domestic beer buckets\, $30 import buckets\, $30 domestic towers\, $35 import towers\, and $40 craft towers. Want a spot with a view? Snag a treehouse for just $45! Specials are available one hour before\, during\, and one hour after trivia—so come early\, stay late\, and bring your A-game! \nLEARN MORE HERE
URL:https://shopdesertridge.com/event/triva-tuesdays-at-backyard-2/
LOCATION:Backyard
ATTACH;FMTTYPE=image/jpeg:https://shopdesertridge.com/wp-content/uploads/2025/04/219A8531-scaled.jpg
END:VEVENT
BEGIN:VEVENT
DTSTART;VALUE=DATE:20250701
DTEND;VALUE=DATE:20260101
DTSTAMP:20260421T184839
CREATED:20250702T162319Z
LAST-MODIFIED:20250702T162319Z
UID:10008642-1751328000-1767225599@shopdesertridge.com
SUMMARY:Music at Backyard
DESCRIPTION:Thursday – Sunday \nExperience the ultimate weekend vibe at Backyard! From Thursday to Sunday\, immerse yourself in live music performances that set the perfect tone for your evenings. Saturdays are elevated with dynamic DJ spinning tracks from 10PM until close\, complemented by exciting beer pong and interactive games. Join Backyard for unforgettable nights filled with rhythm\, fun\, and camaraderie!
URL:https://shopdesertridge.com/event/music-at-backyard/
LOCATION:Backyard
ATTACH;FMTTYPE=image/jpeg:https://shopdesertridge.com/wp-content/uploads/2024/12/Backyard-Sneak-Peeks-01.jpg
END:VEVENT
BEGIN:VEVENT
DTSTART;VALUE=DATE:20250907
DTEND;VALUE=DATE:20251215
DTSTAMP:20260421T184839
CREATED:20250827T211717Z
LAST-MODIFIED:20251222T162433Z
UID:10008648-1757203200-1765756799@shopdesertridge.com
SUMMARY:Sip & Watch
DESCRIPTION:Sip & Watch | Select Games | Select Times \nThe District is the place to be for game day! Get ready – The District is transforming into the ultimate sports watch zone on select days throughout the year. Cheer on your favorite teams and catch all the action on our massive LED screens at the District Stage and in The Courtyard near Copper Blues Desert Ridge. From professional matchups to college showdowns and more\, grab a drink from participating Sip & Stroll retailers\, kick back with fellow fans\, and soak up the unbeatable game day vibes. \n  \nGame broadcast will take place Thursday through Monday on select dates\, when events\, community performances\, and live music are not scheduled. Check back often for updated programming and game day viewing opportunities. \n   \n  \n\nSip & Stroll during the show! Guests aged 21+ can pop into any participating restaurant*\, order a cocktail\, beer\, or wine\, and enjoy it in designated outdoor areas in The District at Desert Ridge Marketplace. Participants include: Marino’s Italian Kitchen & Bar\, Copper Blues Desert Ridge\, Fat Tuesday\, Whining Pig Beer & Wine Bar\, Yard House\, and Islands.\nLearn more about the program HERE.
URL:https://shopdesertridge.com/event/sip-watch/
LOCATION:District Stage
ATTACH;FMTTYPE=image/jpeg:https://shopdesertridge.com/wp-content/uploads/2025/08/VES_DRM_SipWatch_2026FacebookEvent_1.jpg
END:VEVENT
BEGIN:VEVENT
DTSTART;VALUE=DATE:20251113
DTEND;VALUE=DATE:20251221
DTSTAMP:20260421T184839
CREATED:20191026T035919Z
LAST-MODIFIED:20251028T205828Z
UID:10000872-1762992000-1766275199@shopdesertridge.com
SUMMARY:Christmas Angel Tree
DESCRIPTION:Every child deserves a Merry Christmas this year! \nSupport the Salvation Army Christmas Angel Tree located in front of Dave and Busters from November 13 – December 20. The Angel Tree contains tags with the name\, age\, clothing size\, and toy requests of an underprivileged child. Pick a tag\, purchase an item and give a child a gift they could only dream of! \nHOURS:\nMonday – Thursday\, 10:00 am – 7:00 pm\nFriday & Saturday\, 10:00 am – 9:00 pm\nSunday 11:00 am – 6:00 pm \n \n  \n  \n  \n  \n 
URL:https://shopdesertridge.com/event/angeltree/
LOCATION:Dave and Buster’s
CATEGORIES:DRM,Holiday Events
ATTACH;FMTTYPE=image/jpeg:https://shopdesertridge.com/wp-content/uploads/2024/12/IMG_245_4702-scaled.jpg
END:VEVENT
BEGIN:VEVENT
DTSTART;VALUE=DATE:20251201
DTEND;VALUE=DATE:20260101
DTSTAMP:20260421T184839
CREATED:20251208T234003Z
LAST-MODIFIED:20251208T234039Z
UID:10008677-1764547200-1767225599@shopdesertridge.com
SUMMARY:Live Music on Pause
DESCRIPTION:Live Music is Taking a Pause for the Month of December! Check Back Soon for January’s Lineup!
URL:https://shopdesertridge.com/event/live-music-on-pause/
LOCATION:The District Stage
CATEGORIES:DRM,Live Music
ATTACH;FMTTYPE=image/jpeg:https://shopdesertridge.com/wp-content/uploads/2025/02/LiveMusic-v2-Website.jpg
END:VEVENT
BEGIN:VEVENT
DTSTART;TZID=America/Phoenix:20251205T180000
DTEND;TZID=America/Phoenix:20251205T210000
DTSTAMP:20260421T184839
CREATED:20250930T162309Z
LAST-MODIFIED:20251202T184103Z
UID:10008657-1764957600-1764968400@shopdesertridge.com
SUMMARY:Merry & Bright Family Paint Night
DESCRIPTION:Friday\, December 5th | 6-9pm | $17+ price of pottery | Merry & Bright Family Paint Night \nBring the whole family to As You Wish Pottery for a festive night of painting\, music\, and memory-making. Sip a holiday mocktail while you paint with exclusive seasonal traceable\, then strike a pose in our photobooth full of fun props! Whether you’re crafting gifts or just enjoying time together\, it’s a night packed with holiday cheer\, creativity\, and cozy pajamas! Registration required. \nRESGISTRATION IS REQUIRED\n 
URL:https://shopdesertridge.com/event/merrybright/
LOCATION:As You Wish Pottery
ATTACH;FMTTYPE=image/jpeg:https://shopdesertridge.com/wp-content/uploads/2025/09/BT3A6317-1-scaled.jpg
END:VEVENT
BEGIN:VEVENT
DTSTART;VALUE=DATE:20251206
DTEND;VALUE=DATE:20251208
DTSTAMP:20260421T184839
CREATED:20250623T172032Z
LAST-MODIFIED:20251202T192920Z
UID:10008639-1764979200-1765151999@shopdesertridge.com
SUMMARY:Clay Paw Impression Ornaments
DESCRIPTION:Saturday & Sunday\, December 6th & 7th | $25 each | Clay Paw Impression Ornaments – \nCapture your furry friend’s paw print in clay for a keepsake that lasts a lifetime. Schedule a quick 15-minute appointment\, and we’ll help you press their paw\, then handle the painting\, glazing\, and kiln-firing for you. These personalized ornaments make the sweetest gifts for pet lovers and a heartfelt way to celebrate your four-legged family member year after year! \nBOOK YOUR RESERVATION HERE
URL:https://shopdesertridge.com/event/pawimpression/
LOCATION:As You Wish Pottery
ATTACH;FMTTYPE=image/jpeg:https://shopdesertridge.com/wp-content/uploads/2024/09/0Y7A4217.jpg
END:VEVENT
BEGIN:VEVENT
DTSTART;TZID=America/Phoenix:20251206T130000
DTEND;TZID=America/Phoenix:20251206T150000
DTSTAMP:20260421T184839
CREATED:20251105T182346Z
LAST-MODIFIED:20251105T182346Z
UID:10008673-1765026000-1765033200@shopdesertridge.com
SUMMARY:Free Photos with Santa
DESCRIPTION:Free Digital Photos with Santa\nLocated Inside The District Near AMC Theatres \n\nSaturday\, December 6 | 1:00PM – 3:00PM\nSaturday\, December 13 | 1:00PM – 3:00PM\n\nCapture a magical memory with Santa inside The District at Desert Ridge Marketplace. Receive a complimentary digital holiday photo that can be texted or emailed directly to you for sharing! \n*Photos are available on a first come\, first serve basis. Guests are able to snap a photo with their own device.
URL:https://shopdesertridge.com/event/free-photos-with-santa/
LOCATION:AMC Lawn
CATEGORIES:DRM,Holiday Events,Signature
ATTACH;FMTTYPE=image/jpeg:https://shopdesertridge.com/wp-content/uploads/2024/12/Santa-Website.jpg
END:VEVENT
BEGIN:VEVENT
DTSTART;TZID=America/Phoenix:20251212T183000
DTEND;TZID=America/Phoenix:20251212T200000
DTSTAMP:20260421T184839
CREATED:20251202T192333Z
LAST-MODIFIED:20251202T192530Z
UID:10008676-1765564200-1765569600@shopdesertridge.com
SUMMARY:Do You Want to Paint A Snowman?
DESCRIPTION:Friday\, December 12th | 6:30-8:00pm | $35 all inclusive | Kid’s Paint Night – Do You Want To Paint a Snowman?\n\n– Let it snow creativity! Kids will use a special sticker stencil to create this jolly snowman design\, then fill it in with bright\, cheerful colors just like a coloring book. With step-by-step guidance from our friendly instructor\, every painter will bring their snowman to life\, complete with candy cane and holiday cheer! Registration required. Register at\n\nREGISTER HERE
URL:https://shopdesertridge.com/event/snowman/
LOCATION:As You Wish Pottery
ATTACH;FMTTYPE=image/jpeg:https://shopdesertridge.com/wp-content/uploads/2025/12/emily-piraino-photography-0450-scaled.jpg
END:VEVENT
BEGIN:VEVENT
DTSTART;VALUE=DATE:20251213
DTEND;VALUE=DATE:20260101
DTSTAMP:20260421T184839
CREATED:20251126T173020Z
LAST-MODIFIED:20251126T173104Z
UID:10008675-1765584000-1767225599@shopdesertridge.com
SUMMARY:Giving Machine
DESCRIPTION:During the month of December\, Desert Ridge Marketplace has partnered with the Giving Machine where you can give clean water\, goats\, meals\, toys and more to those in need globally and locally through a unique experience. The Giving Machine will be located near Nike and Copper blues\, accompanied by volunteers to assist. \nLearn more about the Giving Machine HERE \n \n 
URL:https://shopdesertridge.com/event/giving-machine/
LOCATION:The Courtyard Near Copper Blues Desert Ridge
ATTACH;FMTTYPE=image/png:https://shopdesertridge.com/wp-content/uploads/2025/11/TexasGM_BusinessCard_Back-1-e1696589364667.png
END:VEVENT
BEGIN:VEVENT
DTSTART;TZID=America/Phoenix:20251213T130000
DTEND;TZID=America/Phoenix:20251213T150000
DTSTAMP:20260421T184839
CREATED:20251105T182407Z
LAST-MODIFIED:20251105T182407Z
UID:10008674-1765630800-1765638000@shopdesertridge.com
SUMMARY:Free Photos with Santa
DESCRIPTION:Free Digital Photos with Santa\nLocated Inside The District Near AMC Theatres \n\nSaturday\, December 13 | 1:00PM – 3:00PM\n\nCapture a magical memory with Santa inside The District at Desert Ridge Marketplace. Receive a complimentary digital holiday photo that can be texted or emailed directly to you for sharing! \n*Photos are available on a first come\, first serve basis. Guests are able to snap a photo with their own device.
URL:https://shopdesertridge.com/event/free-photos-with-santa-2/
LOCATION:AMC Lawn
CATEGORIES:DRM,Holiday Events,Signature
ATTACH;FMTTYPE=image/jpeg:https://shopdesertridge.com/wp-content/uploads/2024/12/Santa-Website.jpg
END:VEVENT
BEGIN:VEVENT
DTSTART;TZID=America/Phoenix:20251213T190000
DTEND;TZID=America/Phoenix:20251224T200000
DTSTAMP:20260421T184839
CREATED:20191118T232155Z
LAST-MODIFIED:20251029T222922Z
UID:10000003-1765652400-1766606400@shopdesertridge.com
SUMMARY:12 Days of Snowfall
DESCRIPTION:12 Days of Snowfall\nDecember 13 – December 24\nInside The District at Desert Ridge Marketplace near AMC Theatres \n  \nDesert Ridge Marketplace is transformed into a winter wonderland with 12 Days of Snowfall from December 13 to December 24! Nightly snowfalls will occur at 7pm and 8pm – enjoy a 10-minute holiday experience with music and magical snow. \nPlus\, it’s snowing every hour on the hour on Christmas Eve from 11am – 8pm. \n  \nLOCATION:\n12 Days of Snowfall will now occur at the east end of The District in the AMC Lawn near AMC Theatres \nDesert Ridge Marketplace\n21001 N Tatum Blvd\nPhoenix\, AZ 85050 \n  \n\n		\n		\n			\n				\n			\n			\n				\n			\n			\n				\n			\n		\n\n  \n  \n 
URL:https://shopdesertridge.com/event/snowfall/
LOCATION:AMC Lawn
CATEGORIES:DRM,Holiday Events
ATTACH;FMTTYPE=image/jpeg:https://shopdesertridge.com/wp-content/uploads/2019/11/Image-16.jpg
END:VEVENT
END:VCALENDAR