BEGIN:VCALENDAR
VERSION:2.0
PRODID:-//Desert Ridge Marketplace - ECPv6.15.20//NONSGML v1.0//EN
CALSCALE:GREGORIAN
METHOD:PUBLISH
X-ORIGINAL-URL:https://shopdesertridge.com
X-WR-CALDESC:Events for Desert Ridge Marketplace
REFRESH-INTERVAL;VALUE=DURATION:PT1H
X-Robots-Tag:noindex
X-PUBLISHED-TTL:PT1H
BEGIN:VTIMEZONE
TZID:America/Phoenix
BEGIN:STANDARD
TZOFFSETFROM:-0700
TZOFFSETTO:-0700
TZNAME:MST
DTSTART:20240101T000000
END:STANDARD
END:VTIMEZONE
BEGIN:VEVENT
DTSTART;TZID=America/Phoenix:20250418T180000
DTEND;TZID=America/Phoenix:20250418T210000
DTSTAMP:20260422T193521
CREATED:20250319T180852Z
LAST-MODIFIED:20250319T181042Z
UID:10008603-1744999200-1745010000@shopdesertridge.com
SUMMARY:Live Music: Znora
DESCRIPTION:Join us for a night of Live Music at the District Stage featuring Znora! \nZnora are a teen rock/funk band out of Tucson that plays 70s-90s covers and mixes in their own original music. They play many musical venues and events in Tucson\, Bisbee and Phoenix. The front-man and lead guitarist\, Adrian Negrete received the Tucson Up and Coming Musician of the Year when he was 14. Now at 15\, he performs not only in Znora but also Rayos del Sol Mariachi and at the Tucson Folk Festival with his acoustic duo\, Cobalt Sunset. Znora is a teen band that will bring the energy and fun! \n \n\nSip & Stroll during the show! Guests aged 21+ can pop into any participating restaurant*\, order a cocktail\, beer\, or wine\, and enjoy it in designated outdoor areas in The District at Desert Ridge Marketplace. Participants include: Marino’s Italian Kitchen & Bar\, Copper Blues Desert Ridge\, Fat Tuesday\, Whining Pig Beer & Wine Bar\, Yard House\, and Islands.\nLearn more about the program HERE.
URL:https://shopdesertridge.com/event/live-music-znora/
LOCATION:The District Stage
CATEGORIES:DRM,Live Music
ATTACH;FMTTYPE=image/jpeg:https://shopdesertridge.com/wp-content/uploads/2025/02/LiveMusic-v2-Website.jpg
END:VEVENT
END:VCALENDAR