BEGIN:VCALENDAR
VERSION:2.0
PRODID:-//Desert Ridge Marketplace - ECPv6.15.20//NONSGML v1.0//EN
CALSCALE:GREGORIAN
METHOD:PUBLISH
X-WR-CALNAME:Desert Ridge Marketplace
X-ORIGINAL-URL:https://shopdesertridge.com
X-WR-CALDESC:Events for Desert Ridge Marketplace
REFRESH-INTERVAL;VALUE=DURATION:PT1H
X-Robots-Tag:noindex
X-PUBLISHED-TTL:PT1H
BEGIN:VTIMEZONE
TZID:America/Phoenix
BEGIN:STANDARD
TZOFFSETFROM:-0700
TZOFFSETTO:-0700
TZNAME:MST
DTSTART:20250101T000000
END:STANDARD
END:VTIMEZONE
BEGIN:VEVENT
DTSTART;TZID=America/Phoenix:20260110T180000
DTEND;TZID=America/Phoenix:20260110T210000
DTSTAMP:20260420T190742
CREATED:20251222T225904Z
LAST-MODIFIED:20251222T225904Z
UID:10008682-1768068000-1768078800@shopdesertridge.com
SUMMARY:Live Music: Alan Conquest
DESCRIPTION:Join us for a night of Live Music at the AMC Lawn featuring Alan Conquest! \nAlan Conquest is an Arizona-based singer/songwriter who performs original country-rock music both solo and with his band. He’s played venues and festivals across the Southwest and was the only artist to reach the Top 10 of Camel Country’s Arizona’s Next Country Star with all original songs. His relatable sound connects with fans of all kinds\, and his music is currently featured on KRDE 94.1 FM “The Ride.” \n \n  \n\nSip & Stroll during the show! Guests aged 21+ can pop into any participating restaurant*\, order a cocktail\, beer\, or wine\, and enjoy it in designated outdoor areas in The District at Desert Ridge Marketplace. Participants include: Marino’s Italian Kitchen & Bar\, Copper Blues Desert Ridge\, Fat Tuesday\, Whining Pig Beer & Wine Bar\, Yard House\, and Islands.\nLearn more about the program HERE.
URL:https://shopdesertridge.com/event/live-music-alan-conquest-5/
LOCATION:AMC Lawn
CATEGORIES:DRM,Live Music
ATTACH;FMTTYPE=image/png:https://shopdesertridge.com/wp-content/uploads/2025/12/header-4.png
END:VEVENT
END:VCALENDAR