BEGIN:VCALENDAR
VERSION:2.0
PRODID:-//Desert Ridge Marketplace - ECPv6.15.20//NONSGML v1.0//EN
CALSCALE:GREGORIAN
METHOD:PUBLISH
X-WR-CALNAME:Desert Ridge Marketplace
X-ORIGINAL-URL:https://shopdesertridge.com
X-WR-CALDESC:Events for Desert Ridge Marketplace
REFRESH-INTERVAL;VALUE=DURATION:PT1H
X-Robots-Tag:noindex
X-PUBLISHED-TTL:PT1H
BEGIN:VTIMEZONE
TZID:America/Phoenix
BEGIN:STANDARD
TZOFFSETFROM:-0700
TZOFFSETTO:-0700
TZNAME:MST
DTSTART:20240101T000000
END:STANDARD
END:VTIMEZONE
BEGIN:VEVENT
DTSTART;TZID=America/Phoenix:20250411T180000
DTEND;TZID=America/Phoenix:20250411T210000
DTSTAMP:20260422T044520
CREATED:20250319T180652Z
LAST-MODIFIED:20250319T180652Z
UID:10008601-1744394400-1744405200@shopdesertridge.com
SUMMARY:Live Music: Marcus Tinsley
DESCRIPTION:Join us for a night of Live Music at the District Stage featuring Marcus Tinsley! \nMarcus Tinsley is a full-time singer/ songwriter from Phoenix. He was on American Idol last season and recently had his new single ‘Butterflies’ premier on Sirius XM. Tinsely is signed to Warner Music. After singing for 10 years\, Marcus is just recently transitioning into performing full-time. His style is generally laid back\, but has a wide variety of songs in his sets\, from oldies\, all the way to modern chart-topping hits. All being family friendly. \n \n\nSip & Stroll during the show! Guests aged 21+ can pop into any participating restaurant*\, order a cocktail\, beer\, or wine\, and enjoy it in designated outdoor areas in The District at Desert Ridge Marketplace. Participants include: Marino’s Italian Kitchen & Bar\, Copper Blues Desert Ridge\, Fat Tuesday\, Whining Pig Beer & Wine Bar\, Yard House\, and Islands.\nLearn more about the program HERE.
URL:https://shopdesertridge.com/event/live-music-marcus-tinsley-2/
LOCATION:The District Stage
CATEGORIES:DRM,Live Music
ATTACH;FMTTYPE=image/jpeg:https://shopdesertridge.com/wp-content/uploads/2025/02/LiveMusic-v2-Website.jpg
END:VEVENT
END:VCALENDAR