BEGIN:VCALENDAR
VERSION:2.0
PRODID:-//Desert Ridge Marketplace - ECPv6.15.20//NONSGML v1.0//EN
CALSCALE:GREGORIAN
METHOD:PUBLISH
X-WR-CALNAME:Desert Ridge Marketplace
X-ORIGINAL-URL:https://shopdesertridge.com
X-WR-CALDESC:Events for Desert Ridge Marketplace
REFRESH-INTERVAL;VALUE=DURATION:PT1H
X-Robots-Tag:noindex
X-PUBLISHED-TTL:PT1H
BEGIN:VTIMEZONE
TZID:America/Phoenix
BEGIN:STANDARD
TZOFFSETFROM:-0700
TZOFFSETTO:-0700
TZNAME:MST
DTSTART:20240101T000000
END:STANDARD
END:VTIMEZONE
BEGIN:VEVENT
DTSTART;TZID=America/Phoenix:20251003T180000
DTEND;TZID=America/Phoenix:20251003T210000
DTSTAMP:20260424T125108
CREATED:20250930T224404Z
LAST-MODIFIED:20250930T224549Z
UID:10008659-1759514400-1759525200@shopdesertridge.com
SUMMARY:Live Music: Lesser Truths
DESCRIPTION:Join us for a night of Live Music at the District Stage featuring Lesser Truths! \n  \n\nSip & Stroll during the show! Guests aged 21+ can pop into any participating restaurant*\, order a cocktail\, beer\, or wine\, and enjoy it in designated outdoor areas in The District at Desert Ridge Marketplace. Participants include: Marino’s Italian Kitchen & Bar\, Copper Blues Desert Ridge\, Fat Tuesday\, Whining Pig Beer & Wine Bar\, Yard House\, and Islands.\nLearn more about the program HERE.
URL:https://shopdesertridge.com/event/live-music-lesser-truths-2/
LOCATION:The District Stage
CATEGORIES:DRM,Live Music
ATTACH;FMTTYPE=image/jpeg:https://shopdesertridge.com/wp-content/uploads/2025/02/LiveMusic-v2-Website.jpg
END:VEVENT
BEGIN:VEVENT
DTSTART;TZID=America/Phoenix:20251010T180000
DTEND;TZID=America/Phoenix:20251010T210000
DTSTAMP:20260424T125108
CREATED:20250930T224540Z
LAST-MODIFIED:20250930T224540Z
UID:10008660-1760119200-1760130000@shopdesertridge.com
SUMMARY:Live Music: 72 Stingray
DESCRIPTION:Join us for a night of Live Music at the District Stage featuring 72 Stingray! \n  \n\nSip & Stroll during the show! Guests aged 21+ can pop into any participating restaurant*\, order a cocktail\, beer\, or wine\, and enjoy it in designated outdoor areas in The District at Desert Ridge Marketplace. Participants include: Marino’s Italian Kitchen & Bar\, Copper Blues Desert Ridge\, Fat Tuesday\, Whining Pig Beer & Wine Bar\, Yard House\, and Islands.\nLearn more about the program HERE.
URL:https://shopdesertridge.com/event/live-music-72-stingray/
LOCATION:The District Stage
CATEGORIES:DRM,Live Music
ATTACH;FMTTYPE=image/jpeg:https://shopdesertridge.com/wp-content/uploads/2025/02/LiveMusic-v2-Website.jpg
END:VEVENT
BEGIN:VEVENT
DTSTART;TZID=America/Phoenix:20251011T180000
DTEND;TZID=America/Phoenix:20251011T210000
DTSTAMP:20260424T125108
CREATED:20250416T212012Z
LAST-MODIFIED:20250930T224649Z
UID:10008617-1760205600-1760216400@shopdesertridge.com
SUMMARY:Live Music: Come Back Buddy
DESCRIPTION:Join us for a night of Live Music at the District Stage featuring Come Back Buddy! \nCome Back Buddy is a 3-piece rock and roll band inspired by the legendary “Buddy Holly and the Crickets.” The trio’s repertoire includes the music of many artists from the 50s-era including Elvis Presley\, Chuck Berry\, Johnny Cash\, Roy Orbison\, Ricky Nelson\, and of course\, Buddy Holly. Mike Randall provides lead vocals and guitar with Janine Randall on bass and Don Rinehart on drums. The band has a strong foundation — and a strong following! \n \n\nSip & Stroll during the show! Guests aged 21+ can pop into any participating restaurant*\, order a cocktail\, beer\, or wine\, and enjoy it in designated outdoor areas in The District at Desert Ridge Marketplace. Participants include: Marino’s Italian Kitchen & Bar\, Copper Blues Desert Ridge\, Fat Tuesday\, Whining Pig Beer & Wine Bar\, Yard House\, and Islands.\nLearn more about the program HERE.
URL:https://shopdesertridge.com/event/live-music-come-back-buddy-4/
LOCATION:The District Stage
CATEGORIES:DRM,Live Music
ATTACH;FMTTYPE=image/jpeg:https://shopdesertridge.com/wp-content/uploads/2025/02/LiveMusic-v2-Website.jpg
END:VEVENT
BEGIN:VEVENT
DTSTART;TZID=America/Phoenix:20251011T180000
DTEND;TZID=America/Phoenix:20251011T210000
DTSTAMP:20260424T125108
CREATED:20250923T175058Z
LAST-MODIFIED:20250930T154711Z
UID:10008654-1760205600-1760216400@shopdesertridge.com
SUMMARY:Fall-tober Fest
DESCRIPTION:Fall-tober Fest | Saturday\, October 11 | 6PM – 9PM | The District Stage \nGet ready to celebrate the season at Fall-tober Fest! Join us on Saturday\, October 11th from 6PM-9PM at the District Stage for an evening full of excitement and entertainment. Sip & Stroll your way through our mobile bars\, savor bites\, and enjoy the high-energy sounds of Come Back Buddy live on stage! The night will also feature fun outdoor games\, exciting giveaways\, and plenty of surprises to keep the celebration going. Whether you’re here for the drinks\, the food\, or the festive atmosphere\, Fall-tober Fest is the perfect way to kick off fall with friends\, family\, and community. \nGET YOUR FREE TICKETS HERE \nWhat to Expect: \n\nLive Music from Come Back Buddy\nMobile Sip & Stroll Bars from Dave & Buster’s\, Whining Pig\, and Marino’s Italian Kitch & Bar\nOutdoor Games\nGiveaways & More!\n\n   \n   \nThis event series is open to the public.  Activities are available on a first come\, first serve basis. Activities are available while supplies last. The AMC Lawn is located inside The District near AMC and Yard House. Please come prepared for anticipated weather.  \n\nSip & Stroll during the event! Guests aged 21+ can pop into any participating restaurant*\, order a cocktail\, beer\, or wine\, and enjoy it in designated outdoor areas in The District at Desert Ridge Marketplace. Participants include: Marino’s Italian Kitchen & Bar\, Copper Blues Desert Ridge\, Fat Tuesday\, Whining Pig Beer & Wine Bar\, Yard House\, and Islands.\nLearn more about the program HERE.
URL:https://shopdesertridge.com/event/falltoberfest/
LOCATION:District Stage
CATEGORIES:Festival,Live Music
ATTACH;FMTTYPE=image/jpeg:https://shopdesertridge.com/wp-content/uploads/2025/09/Falltober-Website.jpg
END:VEVENT
BEGIN:VEVENT
DTSTART;TZID=America/Phoenix:20251017T180000
DTEND;TZID=America/Phoenix:20251017T210000
DTSTAMP:20260424T125108
CREATED:20250416T212139Z
LAST-MODIFIED:20250930T225100Z
UID:10008619-1760724000-1760734800@shopdesertridge.com
SUMMARY:Live Music: Meg XO
DESCRIPTION:Join us for a night of Live Music at the District Stage featuring Meg XO! \nMegan Galici is a singer songwriter from Austin\, Texas. With 20+ years of singing and 12+ years of songwriting under her belt\, she has molded an unmistakable sound she branded “moody pop”: catchy melodies combined with raw\, honest\, and relatable story-telling lyrics. For her live set\, she pairs these original songs with popular covers to craft an engaging show that is tailored to every atmosphere. \n \n\nSip & Stroll during the show! Guests aged 21+ can pop into any participating restaurant*\, order a cocktail\, beer\, or wine\, and enjoy it in designated outdoor areas in The District at Desert Ridge Marketplace. Participants include: Marino’s Italian Kitchen & Bar\, Copper Blues Desert Ridge\, Fat Tuesday\, Whining Pig Beer & Wine Bar\, Yard House\, and Islands.\nLearn more about the program HERE.
URL:https://shopdesertridge.com/event/live-music-megan-galici/
LOCATION:The District Stage
CATEGORIES:DRM,Live Music
ATTACH;FMTTYPE=image/jpeg:https://shopdesertridge.com/wp-content/uploads/2025/02/LiveMusic-v2-Website.jpg
END:VEVENT
BEGIN:VEVENT
DTSTART;TZID=America/Phoenix:20251018T180000
DTEND;TZID=America/Phoenix:20251018T210000
DTSTAMP:20260424T125108
CREATED:20250319T181018Z
LAST-MODIFIED:20250930T224759Z
UID:10008604-1760810400-1760821200@shopdesertridge.com
SUMMARY:Live Music: Hooters Blues
DESCRIPTION:Join us for a night of Live Music at the District Stage featuring Hooters Blues! \nAtlantic City\, NJ’s Hooter started his musical journey in earnest at the beginning of 1974. As a child\, he was greatly influenced by his father’s love of Benny Goodman and big band jazz. Having heard the Beatle’s version of Twist and Shout in 1963\, he was hooked on bluesy rock n’ roll. A few years later the Allman Brother’s version of One Way Out sealed the deal. Starting on guitar\, he bought his 1971 Fender Precision Bass in 1977 for a grand total of 150 dollars. Having done over 10\,000 gigs and counting at this point\, he’s definitely gotten his money’s worth! He’s played all over the US\, Canada and Europe\, including a tour of Israel in March 2000\, before moving to Phoenix/AZ in 2012\, where he’s been burning up stages ever since!. Among many other accolades\, he’s been nominated for 2 AZ Blues Hall of Fame nominations\, as well as 5 WC Handy Awards nominations and countless US/international tours\, including the apex of the blues world\, The Chicago Blues Festival in 2000\, with Mississippi Delta Blues legend Big Jack Johnson. \n \n\nSip & Stroll during the show! Guests aged 21+ can pop into any participating restaurant*\, order a cocktail\, beer\, or wine\, and enjoy it in designated outdoor areas in The District at Desert Ridge Marketplace. Participants include: Marino’s Italian Kitchen & Bar\, Copper Blues Desert Ridge\, Fat Tuesday\, Whining Pig Beer & Wine Bar\, Yard House\, and Islands.\nLearn more about the program HERE.
URL:https://shopdesertridge.com/event/live-music-hooters-blues/
LOCATION:The District Stage
CATEGORIES:DRM,Live Music
ATTACH;FMTTYPE=image/jpeg:https://shopdesertridge.com/wp-content/uploads/2025/02/LiveMusic-v2-Website.jpg
END:VEVENT
BEGIN:VEVENT
DTSTART;TZID=America/Phoenix:20251024T180000
DTEND;TZID=America/Phoenix:20251024T210000
DTSTAMP:20260424T125108
CREATED:20250416T211755Z
LAST-MODIFIED:20250930T225114Z
UID:10008614-1761328800-1761339600@shopdesertridge.com
SUMMARY:Live Music: Waterfall
DESCRIPTION:Join us for a night of Live Music at the District Stage featuring Waterfall! \nFIRST CLASS ROCK AND BLUES. SHOWCASING MUSIC FROM THE GREATEST BLUES/ROCK GUITARISTS\, INCLUDING ERIC CLAPTON\, JIMI HENDRIX\, JEFF BECK\, STEVIE RAY VAUGHAN\, B.B. KING\, ALBERT KING\, FREDDIE KING\, MUDDY WATERS\, ROBBEN FORD ALONG WITH MANY OTHERS. THREE VERY TASTY\, HIGHLY SKILLED PLAYERS LAYIN’ DOWN SOME GREAT STUFF! \n \n\nSip & Stroll during the show! Guests aged 21+ can pop into any participating restaurant*\, order a cocktail\, beer\, or wine\, and enjoy it in designated outdoor areas in The District at Desert Ridge Marketplace. Participants include: Marino’s Italian Kitchen & Bar\, Copper Blues Desert Ridge\, Fat Tuesday\, Whining Pig Beer & Wine Bar\, Yard House\, and Islands.\nLearn more about the program HERE.
URL:https://shopdesertridge.com/event/live-music-mt-and-the-streamliners-3/
LOCATION:The District Stage
CATEGORIES:DRM,Live Music
ATTACH;FMTTYPE=image/jpeg:https://shopdesertridge.com/wp-content/uploads/2025/02/LiveMusic-v2-Website.jpg
END:VEVENT
BEGIN:VEVENT
DTSTART;TZID=America/Phoenix:20251025T180000
DTEND;TZID=America/Phoenix:20251025T210000
DTSTAMP:20260424T125108
CREATED:20250930T225036Z
LAST-MODIFIED:20250930T225109Z
UID:10008662-1761415200-1761426000@shopdesertridge.com
SUMMARY:Live Music: School of Rock Sugar Skulls
DESCRIPTION:Join us for a night of Live Music at the District Stage featuring School of Rock Sugar Skulls! \n\nSip & Stroll during the show! Guests aged 21+ can pop into any participating restaurant*\, order a cocktail\, beer\, or wine\, and enjoy it in designated outdoor areas in The District at Desert Ridge Marketplace. Participants include: Marino’s Italian Kitchen & Bar\, Copper Blues Desert Ridge\, Fat Tuesday\, Whining Pig Beer & Wine Bar\, Yard House\, and Islands.\nLearn more about the program HERE.
URL:https://shopdesertridge.com/event/live-music-school-of-rock-sugar-skulls/
LOCATION:The District Stage
CATEGORIES:DRM,Live Music
ATTACH;FMTTYPE=image/jpeg:https://shopdesertridge.com/wp-content/uploads/2025/02/LiveMusic-v2-Website.jpg
END:VEVENT
BEGIN:VEVENT
DTSTART;TZID=America/Phoenix:20251031T180000
DTEND;TZID=America/Phoenix:20251031T210000
DTSTAMP:20260424T125108
CREATED:20250227T210138Z
LAST-MODIFIED:20250930T225153Z
UID:10008575-1761933600-1761944400@shopdesertridge.com
SUMMARY:Live Music: Lucas Roth
DESCRIPTION:Join us for a night of Live Music at the District Stage featuring Luca Roth! \n  \n\nSip & Stroll during the show! Guests aged 21+ can pop into any participating restaurant*\, order a cocktail\, beer\, or wine\, and enjoy it in designated outdoor areas in The District at Desert Ridge Marketplace. Participants include: Marino’s Italian Kitchen & Bar\, Copper Blues Desert Ridge\, Fat Tuesday\, Whining Pig Beer & Wine Bar\, Yard House\, and Islands.\nLearn more about the program HERE.
URL:https://shopdesertridge.com/event/live-music-lucas-roth-2/
LOCATION:The District Stage
CATEGORIES:DRM,Live Music
ATTACH;FMTTYPE=image/jpeg:https://shopdesertridge.com/wp-content/uploads/2025/02/LiveMusic-v2-Website.jpg
END:VEVENT
END:VCALENDAR