BEGIN:VCALENDAR
VERSION:2.0
PRODID:-//Desert Ridge Marketplace - ECPv6.15.20//NONSGML v1.0//EN
CALSCALE:GREGORIAN
METHOD:PUBLISH
X-WR-CALNAME:Desert Ridge Marketplace
X-ORIGINAL-URL:https://shopdesertridge.com
X-WR-CALDESC:Events for Desert Ridge Marketplace
REFRESH-INTERVAL;VALUE=DURATION:PT1H
X-Robots-Tag:noindex
X-PUBLISHED-TTL:PT1H
BEGIN:VTIMEZONE
TZID:America/Phoenix
BEGIN:STANDARD
TZOFFSETFROM:-0700
TZOFFSETTO:-0700
TZNAME:MST
DTSTART:20230101T000000
END:STANDARD
END:VTIMEZONE
BEGIN:VEVENT
DTSTART;TZID=America/Phoenix:20241225T180000
DTEND;TZID=America/Phoenix:20241225T180000
DTSTAMP:20260421T175545
CREATED:20230613T000151Z
LAST-MODIFIED:20241226T223420Z
UID:10008006-1735149600-1735149600@shopdesertridge.com
SUMMARY:Summer Sweat with Radi8 Hot Yoga
DESCRIPTION:Sweat\, Stretch\, and Soothe Your Soul! Enjoy a free 50-minute outdoor yoga series led by experienced instructors with Radi8 Hot Yoga. \n  \nWednesday\, August 14 – 6pm\nReserve Your Spot for Free Here \n  \nWednesday\, August 28 – 6pm\nReserve Your Spot for Free Here \n  \nWednesday\, September 11 – 6pm\nReserve Your Spot for Free Here \n  \nWednesday\, September 25 – 6pm\nReserve Your Spot for Free Here \n  \nThis free outdoor fitness series will be hosted in The Courtyard near Copper Blues Desert Ridge\, Creations Boutique\, and Barnes & Noble.  \nAll fitness levels are welcome. Please bring your own yoga mat and come prepared for the anticipated weather with water\, sunscreen\, etc. 
URL:https://shopdesertridge.com/event/yoga-2024-08-28/2024-12-25/
CATEGORIES:DRM,Fitness in the District,Signature
ATTACH;FMTTYPE=image/jpeg:https://shopdesertridge.com/wp-content/uploads/2024/12/VES_DRM_SummerSweat_Website_1.jpg
END:VEVENT
BEGIN:VEVENT
DTSTART;TZID=America/Phoenix:20240925T180000
DTEND;TZID=America/Phoenix:20240925T180000
DTSTAMP:20260421T175545
CREATED:20230613T000151Z
LAST-MODIFIED:20241226T223243Z
UID:10008004-1727287200-1727287200@shopdesertridge.com
SUMMARY:Summer Sweat with Radi8 Hot Yoga
DESCRIPTION:Sweat\, Stretch\, and Soothe Your Soul! Enjoy a free 50-minute outdoor yoga series led by experienced instructors with Radi8 Hot Yoga. \n  \nWednesday\, August 14 – 6pm\nReserve Your Spot for Free Here \n  \nWednesday\, August 28 – 6pm\nReserve Your Spot for Free Here \n  \nWednesday\, September 11 – 6pm\nReserve Your Spot for Free Here \n  \nWednesday\, September 25 – 6pm\nReserve Your Spot for Free Here \n  \nThis free outdoor fitness series will be hosted in The Courtyard near Copper Blues Desert Ridge\, Creations Boutique\, and Barnes & Noble.  \nAll fitness levels are welcome. Please bring your own yoga mat and come prepared for the anticipated weather with water\, sunscreen\, etc. 
URL:https://shopdesertridge.com/event/yoga/2024-09-25/
CATEGORIES:DRM,Fitness in the District,Signature
ATTACH;FMTTYPE=image/jpeg:https://shopdesertridge.com/wp-content/uploads/2024/12/VES_DRM_SummerSweat_Website_1.jpg
END:VEVENT
BEGIN:VEVENT
DTSTART;TZID=America/Phoenix:20240925T180000
DTEND;TZID=America/Phoenix:20240925T180000
DTSTAMP:20260421T175545
CREATED:20230613T000151Z
LAST-MODIFIED:20241226T223904Z
UID:10000943-1727287200-1727287200@shopdesertridge.com
SUMMARY:Summer Sweat with Radi8 Hot Yoga
DESCRIPTION:Sweat\, Stretch\, and Soothe Your Soul! Enjoy a free 50-minute outdoor yoga series led by experienced instructors with Radi8 Hot Yoga. \n  \nWednesday\, August 14 – 6pm\nReserve Your Spot for Free Here \n  \nWednesday\, August 28 – 6pm\nReserve Your Spot for Free Here \n  \nWednesday\, September 11 – 6pm\nReserve Your Spot for Free Here \n  \nWednesday\, September 25 – 6pm\nReserve Your Spot for Free Here \n  \nThis free outdoor fitness series will be hosted in The Courtyard near Copper Blues Desert Ridge\, Creations Boutique\, and Barnes & Noble.  \nAll fitness levels are welcome. Please bring your own yoga mat and come prepared for the anticipated weather with water\, sunscreen\, etc. 
URL:https://shopdesertridge.com/event/yoga-2024-09-25/2024-09-25/
CATEGORIES:DRM,Fitness in the District,Signature
ATTACH;FMTTYPE=image/jpeg:https://shopdesertridge.com/wp-content/uploads/2024/12/VES_DRM_SummerSweat_Website_1.jpg
END:VEVENT
BEGIN:VEVENT
DTSTART;TZID=America/Phoenix:20240925T060000
DTEND;TZID=America/Phoenix:20240925T180000
DTSTAMP:20260421T175545
CREATED:20230613T000151Z
LAST-MODIFIED:20241226T223732Z
UID:10008008-1727244000-1727287200@shopdesertridge.com
SUMMARY:Summer Sweat with Radi8 Hot Yoga
DESCRIPTION:Sweat\, Stretch\, and Soothe Your Soul! Enjoy a free 50-minute outdoor yoga series led by experienced instructors with Radi8 Hot Yoga. \n  \nWednesday\, August 14 – 6pm\nReserve Your Spot for Free Here \n  \nWednesday\, August 28 – 6pm\nReserve Your Spot for Free Here \n  \nWednesday\, September 11 – 6pm\nReserve Your Spot for Free HereФ \n  \nWednesday\, September 25 – 6pm\nReserve Your Spot for Free Here \n  \nThis free outdoor fitness series will be hosted in The Courtyard near Copper Blues Desert Ridge\, Creations Boutique\, and Barnes & Noble.  \nAll fitness levels are welcome. Please bring your own yoga mat and come prepared for the anticipated weather with water\, sunscreen\, etc. 
URL:https://shopdesertridge.com/event/yoga-2024-09-11/2024-09-25/
CATEGORIES:DRM,Fitness in the District,Signature
ATTACH;FMTTYPE=image/jpeg:https://shopdesertridge.com/wp-content/uploads/2024/12/VES_DRM_SummerSweat_Website_1.jpg
END:VEVENT
BEGIN:VEVENT
DTSTART;TZID=America/Phoenix:20240911T180000
DTEND;TZID=America/Phoenix:20240911T180000
DTSTAMP:20260421T175545
CREATED:20230613T000151Z
LAST-MODIFIED:20241226T223243Z
UID:10008003-1726077600-1726077600@shopdesertridge.com
SUMMARY:Summer Sweat with Radi8 Hot Yoga
DESCRIPTION:Sweat\, Stretch\, and Soothe Your Soul! Enjoy a free 50-minute outdoor yoga series led by experienced instructors with Radi8 Hot Yoga. \n  \nWednesday\, August 14 – 6pm\nReserve Your Spot for Free Here \n  \nWednesday\, August 28 – 6pm\nReserve Your Spot for Free Here \n  \nWednesday\, September 11 – 6pm\nReserve Your Spot for Free Here \n  \nWednesday\, September 25 – 6pm\nReserve Your Spot for Free Here \n  \nThis free outdoor fitness series will be hosted in The Courtyard near Copper Blues Desert Ridge\, Creations Boutique\, and Barnes & Noble.  \nAll fitness levels are welcome. Please bring your own yoga mat and come prepared for the anticipated weather with water\, sunscreen\, etc. 
URL:https://shopdesertridge.com/event/yoga/2024-09-11/
CATEGORIES:DRM,Fitness in the District,Signature
ATTACH;FMTTYPE=image/jpeg:https://shopdesertridge.com/wp-content/uploads/2024/12/VES_DRM_SummerSweat_Website_1.jpg
END:VEVENT
BEGIN:VEVENT
DTSTART;TZID=America/Phoenix:20240911T180000
DTEND;TZID=America/Phoenix:20240911T180000
DTSTAMP:20260421T175545
CREATED:20230613T000151Z
LAST-MODIFIED:20241226T223420Z
UID:10008005-1726077600-1726077600@shopdesertridge.com
SUMMARY:Summer Sweat with Radi8 Hot Yoga
DESCRIPTION:Sweat\, Stretch\, and Soothe Your Soul! Enjoy a free 50-minute outdoor yoga series led by experienced instructors with Radi8 Hot Yoga. \n  \nWednesday\, August 14 – 6pm\nReserve Your Spot for Free Here \n  \nWednesday\, August 28 – 6pm\nReserve Your Spot for Free Here \n  \nWednesday\, September 11 – 6pm\nReserve Your Spot for Free Here \n  \nWednesday\, September 25 – 6pm\nReserve Your Spot for Free Here \n  \nThis free outdoor fitness series will be hosted in The Courtyard near Copper Blues Desert Ridge\, Creations Boutique\, and Barnes & Noble.  \nAll fitness levels are welcome. Please bring your own yoga mat and come prepared for the anticipated weather with water\, sunscreen\, etc. 
URL:https://shopdesertridge.com/event/yoga-2024-08-28/2024-09-11/
CATEGORIES:DRM,Fitness in the District,Signature
ATTACH;FMTTYPE=image/jpeg:https://shopdesertridge.com/wp-content/uploads/2024/12/VES_DRM_SummerSweat_Website_1.jpg
END:VEVENT
BEGIN:VEVENT
DTSTART;TZID=America/Phoenix:20240911T180000
DTEND;TZID=America/Phoenix:20240911T180000
DTSTAMP:20260421T175545
CREATED:20230613T000151Z
LAST-MODIFIED:20241226T223732Z
UID:10000941-1726077600-1726077600@shopdesertridge.com
SUMMARY:Summer Sweat with Radi8 Hot Yoga
DESCRIPTION:Sweat\, Stretch\, and Soothe Your Soul! Enjoy a free 50-minute outdoor yoga series led by experienced instructors with Radi8 Hot Yoga. \n  \nWednesday\, August 14 – 6pm\nReserve Your Spot for Free Here \n  \nWednesday\, August 28 – 6pm\nReserve Your Spot for Free Here \n  \nWednesday\, September 11 – 6pm\nReserve Your Spot for Free HereФ \n  \nWednesday\, September 25 – 6pm\nReserve Your Spot for Free Here \n  \nThis free outdoor fitness series will be hosted in The Courtyard near Copper Blues Desert Ridge\, Creations Boutique\, and Barnes & Noble.  \nAll fitness levels are welcome. Please bring your own yoga mat and come prepared for the anticipated weather with water\, sunscreen\, etc. 
URL:https://shopdesertridge.com/event/yoga-2024-09-11/2024-09-11/
CATEGORIES:DRM,Fitness in the District,Signature
ATTACH;FMTTYPE=image/jpeg:https://shopdesertridge.com/wp-content/uploads/2024/12/VES_DRM_SummerSweat_Website_1.jpg
END:VEVENT
BEGIN:VEVENT
DTSTART;TZID=America/Phoenix:20240911T180000
DTEND;TZID=America/Phoenix:20240911T180000
DTSTAMP:20260421T175545
CREATED:20230613T000151Z
LAST-MODIFIED:20241226T223904Z
UID:10008010-1726077600-1726077600@shopdesertridge.com
SUMMARY:Summer Sweat with Radi8 Hot Yoga
DESCRIPTION:Sweat\, Stretch\, and Soothe Your Soul! Enjoy a free 50-minute outdoor yoga series led by experienced instructors with Radi8 Hot Yoga. \n  \nWednesday\, August 14 – 6pm\nReserve Your Spot for Free Here \n  \nWednesday\, August 28 – 6pm\nReserve Your Spot for Free Here \n  \nWednesday\, September 11 – 6pm\nReserve Your Spot for Free Here \n  \nWednesday\, September 25 – 6pm\nReserve Your Spot for Free Here \n  \nThis free outdoor fitness series will be hosted in The Courtyard near Copper Blues Desert Ridge\, Creations Boutique\, and Barnes & Noble.  \nAll fitness levels are welcome. Please bring your own yoga mat and come prepared for the anticipated weather with water\, sunscreen\, etc. 
URL:https://shopdesertridge.com/event/yoga-2024-09-25/2024-09-11/
CATEGORIES:DRM,Fitness in the District,Signature
ATTACH;FMTTYPE=image/jpeg:https://shopdesertridge.com/wp-content/uploads/2024/12/VES_DRM_SummerSweat_Website_1.jpg
END:VEVENT
BEGIN:VEVENT
DTSTART;TZID=America/Phoenix:20240828T180000
DTEND;TZID=America/Phoenix:20240828T180000
DTSTAMP:20260421T175545
CREATED:20230613T000151Z
LAST-MODIFIED:20241226T223420Z
UID:10000939-1724868000-1724868000@shopdesertridge.com
SUMMARY:Summer Sweat with Radi8 Hot Yoga
DESCRIPTION:Sweat\, Stretch\, and Soothe Your Soul! Enjoy a free 50-minute outdoor yoga series led by experienced instructors with Radi8 Hot Yoga. \n  \nWednesday\, August 14 – 6pm\nReserve Your Spot for Free Here \n  \nWednesday\, August 28 – 6pm\nReserve Your Spot for Free Here \n  \nWednesday\, September 11 – 6pm\nReserve Your Spot for Free Here \n  \nWednesday\, September 25 – 6pm\nReserve Your Spot for Free Here \n  \nThis free outdoor fitness series will be hosted in The Courtyard near Copper Blues Desert Ridge\, Creations Boutique\, and Barnes & Noble.  \nAll fitness levels are welcome. Please bring your own yoga mat and come prepared for the anticipated weather with water\, sunscreen\, etc. 
URL:https://shopdesertridge.com/event/yoga-2024-08-28/2024-08-28/
CATEGORIES:DRM,Fitness in the District,Signature
ATTACH;FMTTYPE=image/jpeg:https://shopdesertridge.com/wp-content/uploads/2024/12/VES_DRM_SummerSweat_Website_1.jpg
END:VEVENT
BEGIN:VEVENT
DTSTART;TZID=America/Phoenix:20240828T180000
DTEND;TZID=America/Phoenix:20240828T180000
DTSTAMP:20260421T175545
CREATED:20230613T000151Z
LAST-MODIFIED:20241226T223732Z
UID:10008007-1724868000-1724868000@shopdesertridge.com
SUMMARY:Summer Sweat with Radi8 Hot Yoga
DESCRIPTION:Sweat\, Stretch\, and Soothe Your Soul! Enjoy a free 50-minute outdoor yoga series led by experienced instructors with Radi8 Hot Yoga. \n  \nWednesday\, August 14 – 6pm\nReserve Your Spot for Free Here \n  \nWednesday\, August 28 – 6pm\nReserve Your Spot for Free Here \n  \nWednesday\, September 11 – 6pm\nReserve Your Spot for Free HereФ \n  \nWednesday\, September 25 – 6pm\nReserve Your Spot for Free Here \n  \nThis free outdoor fitness series will be hosted in The Courtyard near Copper Blues Desert Ridge\, Creations Boutique\, and Barnes & Noble.  \nAll fitness levels are welcome. Please bring your own yoga mat and come prepared for the anticipated weather with water\, sunscreen\, etc. 
URL:https://shopdesertridge.com/event/yoga-2024-09-11/2024-08-28/
CATEGORIES:DRM,Fitness in the District,Signature
ATTACH;FMTTYPE=image/jpeg:https://shopdesertridge.com/wp-content/uploads/2024/12/VES_DRM_SummerSweat_Website_1.jpg
END:VEVENT
BEGIN:VEVENT
DTSTART;TZID=America/Phoenix:20240828T180000
DTEND;TZID=America/Phoenix:20240828T180000
DTSTAMP:20260421T175545
CREATED:20230613T000151Z
LAST-MODIFIED:20241226T223904Z
UID:10008009-1724868000-1724868000@shopdesertridge.com
SUMMARY:Summer Sweat with Radi8 Hot Yoga
DESCRIPTION:Sweat\, Stretch\, and Soothe Your Soul! Enjoy a free 50-minute outdoor yoga series led by experienced instructors with Radi8 Hot Yoga. \n  \nWednesday\, August 14 – 6pm\nReserve Your Spot for Free Here \n  \nWednesday\, August 28 – 6pm\nReserve Your Spot for Free Here \n  \nWednesday\, September 11 – 6pm\nReserve Your Spot for Free Here \n  \nWednesday\, September 25 – 6pm\nReserve Your Spot for Free Here \n  \nThis free outdoor fitness series will be hosted in The Courtyard near Copper Blues Desert Ridge\, Creations Boutique\, and Barnes & Noble.  \nAll fitness levels are welcome. Please bring your own yoga mat and come prepared for the anticipated weather with water\, sunscreen\, etc. 
URL:https://shopdesertridge.com/event/yoga-2024-09-25/2024-08-28/
CATEGORIES:DRM,Fitness in the District,Signature
ATTACH;FMTTYPE=image/jpeg:https://shopdesertridge.com/wp-content/uploads/2024/12/VES_DRM_SummerSweat_Website_1.jpg
END:VEVENT
BEGIN:VEVENT
DTSTART;TZID=America/Phoenix:20240828T060000
DTEND;TZID=America/Phoenix:20240828T180000
DTSTAMP:20260421T175545
CREATED:20230613T000151Z
LAST-MODIFIED:20241226T223243Z
UID:10008002-1724824800-1724868000@shopdesertridge.com
SUMMARY:Summer Sweat with Radi8 Hot Yoga
DESCRIPTION:Sweat\, Stretch\, and Soothe Your Soul! Enjoy a free 50-minute outdoor yoga series led by experienced instructors with Radi8 Hot Yoga. \n  \nWednesday\, August 14 – 6pm\nReserve Your Spot for Free Here \n  \nWednesday\, August 28 – 6pm\nReserve Your Spot for Free Here \n  \nWednesday\, September 11 – 6pm\nReserve Your Spot for Free Here \n  \nWednesday\, September 25 – 6pm\nReserve Your Spot for Free Here \n  \nThis free outdoor fitness series will be hosted in The Courtyard near Copper Blues Desert Ridge\, Creations Boutique\, and Barnes & Noble.  \nAll fitness levels are welcome. Please bring your own yoga mat and come prepared for the anticipated weather with water\, sunscreen\, etc. 
URL:https://shopdesertridge.com/event/yoga/2024-08-28/
CATEGORIES:DRM,Fitness in the District,Signature
ATTACH;FMTTYPE=image/jpeg:https://shopdesertridge.com/wp-content/uploads/2024/12/VES_DRM_SummerSweat_Website_1.jpg
END:VEVENT
BEGIN:VEVENT
DTSTART;TZID=America/Phoenix:20240814T180000
DTEND;TZID=America/Phoenix:20240814T190000
DTSTAMP:20260421T175545
CREATED:20230613T000151Z
LAST-MODIFIED:20241226T223243Z
UID:10000937-1723658400-1723662000@shopdesertridge.com
SUMMARY:Summer Sweat with Radi8 Hot Yoga
DESCRIPTION:Sweat\, Stretch\, and Soothe Your Soul! Enjoy a free 50-minute outdoor yoga series led by experienced instructors with Radi8 Hot Yoga. \n  \nWednesday\, August 14 – 6pm\nReserve Your Spot for Free Here \n  \nWednesday\, August 28 – 6pm\nReserve Your Spot for Free Here \n  \nWednesday\, September 11 – 6pm\nReserve Your Spot for Free Here \n  \nWednesday\, September 25 – 6pm\nReserve Your Spot for Free Here \n  \nThis free outdoor fitness series will be hosted in The Courtyard near Copper Blues Desert Ridge\, Creations Boutique\, and Barnes & Noble.  \nAll fitness levels are welcome. Please bring your own yoga mat and come prepared for the anticipated weather with water\, sunscreen\, etc. 
URL:https://shopdesertridge.com/event/yoga/2024-08-14/
CATEGORIES:DRM,Fitness in the District,Signature
ATTACH;FMTTYPE=image/jpeg:https://shopdesertridge.com/wp-content/uploads/2024/12/VES_DRM_SummerSweat_Website_1.jpg
END:VEVENT
BEGIN:VEVENT
DTSTART;TZID=America/Phoenix:20240504T103000
DTEND;TZID=America/Phoenix:20240504T120000
DTSTAMP:20260421T175545
CREATED:20240427T040650Z
LAST-MODIFIED:20241226T222550Z
UID:10000919-1714818600-1714824000@shopdesertridge.com
SUMMARY:Suit Up For Summer EMS Workout
DESCRIPTION:[vc_row css_animation=”” row_type=”row” use_row_as_full_screen_section=”no” type=”full_width” angled_section=”no” text_align=”left” background_image_as_pattern=”without_pattern”][vc_column][vc_column_text]Experience a 25-minute complimentary EMS (electro muscle stimulation) workout with OHM Fitness at The District Stage. Don’t miss out on your chance to win a month of membership and an EMS suit\, along with other exciting giveaways and prizes! \n  \nSpace is limited\, book your reservation HERE or: \n\nEmail the studio at:studio0033@ohmfitness.com\nOr Call the studio at:(480) 581-7422\n\n  \n3 Outdoor Classes on Saturday\, May 4 – National Fitness Day: \n\n10:30 am\n11:15 am\n12:00 pm\n\n[/vc_column_text][vc_btn title=”BOOK YOUR RESERVATION” shape=”square” color=”info” size=”lg” link=”url:mailto%3Astudio0033%40ohmfitness.com”][vc_btn title=”LEARN MORE ABOUT EMS” shape=”square” color=”green” size=”lg” link=”url:https%3A%2F%2Fwww.ohmfitness.com%2F”][/vc_column][/vc_row][vc_row css_animation=”” row_type=”row” use_row_as_full_screen_section=”no” type=”full_width” angled_section=”no” text_align=”left” background_image_as_pattern=”without_pattern”][vc_column][vc_single_image image=”60074″ img_size=”large” qode_css_animation=””][/vc_column][/vc_row]
URL:https://shopdesertridge.com/event/suit-up-for-summer-ems-workout/
CATEGORIES:DRM,Fitness in the District
ATTACH;FMTTYPE=image/png:https://shopdesertridge.com/wp-content/uploads/2024/12/Website-Hero-Image-4.png
END:VEVENT
END:VCALENDAR