BEGIN:VCALENDAR
VERSION:2.0
PRODID:-//Desert Ridge Marketplace - ECPv6.15.20//NONSGML v1.0//EN
CALSCALE:GREGORIAN
METHOD:PUBLISH
X-WR-CALNAME:Desert Ridge Marketplace
X-ORIGINAL-URL:https://shopdesertridge.com
X-WR-CALDESC:Events for Desert Ridge Marketplace
REFRESH-INTERVAL;VALUE=DURATION:PT1H
X-Robots-Tag:noindex
X-PUBLISHED-TTL:PT1H
BEGIN:VTIMEZONE
TZID:America/Phoenix
BEGIN:STANDARD
TZOFFSETFROM:-0700
TZOFFSETTO:-0700
TZNAME:MST
DTSTART:20250101T000000
END:STANDARD
END:VTIMEZONE
BEGIN:VEVENT
DTSTART;TZID=America/Phoenix:20260208T163000
DTEND;TZID=America/Phoenix:20260208T200000
DTSTAMP:20260420T155627
CREATED:20230103T051149Z
LAST-MODIFIED:20260202T205724Z
UID:10001160-1770568200-1770580800@shopdesertridge.com
SUMMARY:Game Day Watch Zone
DESCRIPTION:GAME DAY WATCH ZONE\nSunday\, February 8\n4:30PM (Kick-Off) – 7:30PM (Final Score) \nThe District is transforming into the ultimate Game Day Watch Zone on Sunday\, February 8! Cheer on your team and catch the final game on our massive outdoor LED screens at The District Stage and in The Courtyard near Copper Blues Desert Ridge. Bring your own lawn chairs recommended.  \n  \nSponsored by Slices\nFootball + pizza = the perfect game day combo. Be one of the first 100 attendees and enjoy a free slice from Slices Pizza!\n \n\n$1\,000 Interactive Squares Giveaway\nThe first 100 attendees aged 18 years or older are invited to participate in our interactive squares giveaway! Enter your name on one of (100) squares near The District Stage. Numbers will be chosen at random to determine the score for each row and column. A winner will be selected based on the score at the end of each quarter. Must be present to win. Restrictions may apply. \nQuarter 1 Prize: $100 Backyard Gift Card  \nHalf Time Prize: $100 Nike Gift Card and $100 Just Sports Gift Card  \nQuarter 3 Prize: $100 Foley Ranch Gift Card\, $100 Jin Jia Gift Card\, $50 Cold Stone Ice Cream Gift Card\, and $50 Slices Gift Card  \nFinal Score: $100 Kona Grill Gift Card\, $100 Target Gift Card\, $100 AMC Gift Card\, and $100 Dave and Busters Gift Card  \nLawn Games & Activites \nSip & Stroll\nSip & Stroll during the game! Guests aged 21+ can order from our mobile Sip & Stroll bar or pop into any participating restaurant*\, order a cocktail\, beer\, or wine\, and enjoy it in designated outdoor areas in The District at Desert Ridge Marketplace. Participants include: Marino’s Italian Kitchen & Bar\, Dave & Buster’s\, Copper Blues Desert Ridge\, Fat Tuesday\, Whining Pig Beer & Wine Bar\, Yard House\, and Islands. Learn more about the program HERE. Must be 21+. Please drink responsibly. \n  \nGET YOUR TICKETS HERE \n  \n   \n  \nThis event is free and open to the public. Seating and activities are available on a first come\, first serve basis.\n21001 N Tatum Blvd.\nPhoenix\, AZ 85050
URL:https://shopdesertridge.com/event/gameday/
LOCATION:District Stage
CATEGORIES:DRM,Festival,Game Day
ATTACH;FMTTYPE=image/jpeg:https://shopdesertridge.com/wp-content/uploads/2023/01/1.jpg
END:VEVENT
BEGIN:VEVENT
DTSTART;TZID=America/Phoenix:20260221T110000
DTEND;TZID=America/Phoenix:20260221T133000
DTSTAMP:20260420T155627
CREATED:20210220T010458Z
LAST-MODIFIED:20260126T155350Z
UID:10000879-1771671600-1771680600@shopdesertridge.com
SUMMARY:Lunar New Year Festival
DESCRIPTION:9th Annual Lunar New Year Festival\nSaturday\, February 21 | 11AM – 1:30PM\nThe District Stage \nThe 9th Annual Lunar New Year Festival returns to The District Stage on Saturday\, February 21 in celebration of the Year of the Fire Horse. Desert Ridge Marketplace continues its partnership with 9 Dragons Kung Fu to host an incredible morning filled with cultural performances\, dramatic dances\, tai chi demonstrations\, art\, and more. Performances will be located at The District Stage between Dave & Buster’s and H&M. \n*This event is free and open to the public. Seating is available on a first come\, first serve basis. \n  \nEvent  Address:\nLocated inside The District at Desert Ridge Marketplace\n21001 N Tatum Blvd\nPhoenix\, AZ 85050
URL:https://shopdesertridge.com/event/lunar/
LOCATION:The District Stage
CATEGORIES:DRM,Festival,Signature
ATTACH;FMTTYPE=image/jpeg:https://shopdesertridge.com/wp-content/uploads/2021/02/DRM_LunarNewYear_2026VideoWall_1.jpg
END:VEVENT
BEGIN:VEVENT
DTSTART;TZID=America/Phoenix:20260228T110000
DTEND;TZID=America/Phoenix:20260228T160000
DTSTAMP:20260420T155627
CREATED:20240815T034934Z
LAST-MODIFIED:20260115T164536Z
UID:10000980-1772276400-1772294400@shopdesertridge.com
SUMMARY:The Makers Hive Market
DESCRIPTION:The Makers Hive Holiday Market\nSaturday\, February 28\n11AM to 4PM \n  \nWe are excited to host The Makers Hive Market at Desert Ridge Marketplace on Saturday\, February 28! Enjoy local artisan vendors inside The District at Desert Ridge Marketplace from 11am to 4pm. Guest can stroll\, shop and sip through nearly 40 unique and diverse small businesses. Discover custom clothing bars\, permanent jewelry\, hand-crafted candles\, and more! \n  \n𝐈𝐧𝐭𝐞𝐫𝐞𝐬𝐭𝐞𝐝 𝐢𝐧 𝐛𝐞𝐢𝐧𝐠 𝐚 𝐯𝐞𝐧𝐝𝐨𝐫? Apply HERE \n  \n\nSip & Stroll during the event! Guests aged 21+ can pop into any participating restaurant*\, order a cocktail\, beer\, or wine\, and enjoy it in designated outdoor areas in The District at Desert Ridge Marketplace. Participants include: Marino’s Italian Kitchen & Bar\, Copper Blues Desert Ridge\, Fat Tuesday\, Whining Pig Beer & Wine Bar\, Yard House\, and Islands.\nLearn more about the program HERE.  \n  \nEvent location:\nLocated: The District at Desert Ridge Marketplace\n21001 N Tatum Blvd. Phoenix\, AZ 85050
URL:https://shopdesertridge.com/event/market/
LOCATION:The District
CATEGORIES:DRM,Festival,Shopping
ATTACH;FMTTYPE=image/png:https://shopdesertridge.com/wp-content/uploads/2024/08/Untitled-design-41-1.png
END:VEVENT
END:VCALENDAR