BEGIN:VCALENDAR
VERSION:2.0
PRODID:-//Desert Ridge Marketplace - ECPv6.15.20//NONSGML v1.0//EN
CALSCALE:GREGORIAN
METHOD:PUBLISH
X-WR-CALNAME:Desert Ridge Marketplace
X-ORIGINAL-URL:https://shopdesertridge.com
X-WR-CALDESC:Events for Desert Ridge Marketplace
REFRESH-INTERVAL;VALUE=DURATION:PT1H
X-Robots-Tag:noindex
X-PUBLISHED-TTL:PT1H
BEGIN:VTIMEZONE
TZID:America/Phoenix
BEGIN:STANDARD
TZOFFSETFROM:-0700
TZOFFSETTO:-0700
TZNAME:MST
DTSTART:20230101T000000
END:STANDARD
END:VTIMEZONE
BEGIN:VEVENT
DTSTART;TZID=America/Phoenix:20241019T070000
DTEND;TZID=America/Phoenix:20241019T120000
DTSTAMP:20260423T064341
CREATED:20230728T231916Z
LAST-MODIFIED:20250305T210202Z
UID:10000115-1729321200-1729339200@shopdesertridge.com
SUMMARY:I Recycle Phoenix
DESCRIPTION:Free Recycling Festival\nSaturday\, October 19\n7AM to 12PM \nJoin Keep Phoenix Beautiful\, the city of Phoenix and Desert Ridge Marketplace for the annual I Recycle Phoenix Festival! Don’t miss this one-stop recycling event! \n  \nRecyclable Items Accepted: \n\nHard Drives\, Laptops\, Computer Towers\, Printers\, Cell Phones\, Flat TV’s and Monitors\, & Other Electronics* by Westech Recyclers\nNon-perishable Food\, Clothing by ICM Food & Clothing Bank\nBooks\, Office\, School Supplies and Housewares by Treasures 4 Teachers\nHousewares by T4T Thrift Shop Click here for T4T’s donation list\nPersonal Documents to be Shredded by Security Data Destruction\nFor a full list of items\, please visit: http://www.recyclecleanphoenix.org/\n\n  \n*Hazardous materials such as CRT monitors\, CRT televisions\, single use batteries\, prescription drugs\, oil\, paint and chemicals are not accepted. Please look for the next Household Hazardous Waste event for details. \n \n  \nEvent location:\nLocated: The District Stage at Desert Ridge Marketplace.\n21001 N Tatum Blvd. Phoenix\, AZ 85050 \n \n 
URL:https://shopdesertridge.com/event/2024recycle/
LOCATION:Behind AMC Theatres
CATEGORIES:DRM,Festival
ATTACH;FMTTYPE=image/jpeg:https://shopdesertridge.com/wp-content/uploads/2024/12/503A5839.jpg
END:VEVENT
END:VCALENDAR