BEGIN:VCALENDAR
VERSION:2.0
PRODID:-//Desert Ridge Marketplace - ECPv6.15.20//NONSGML v1.0//EN
CALSCALE:GREGORIAN
METHOD:PUBLISH
X-ORIGINAL-URL:https://shopdesertridge.com
X-WR-CALDESC:Events for Desert Ridge Marketplace
REFRESH-INTERVAL;VALUE=DURATION:PT1H
X-Robots-Tag:noindex
X-PUBLISHED-TTL:PT1H
BEGIN:VTIMEZONE
TZID:America/Phoenix
BEGIN:STANDARD
TZOFFSETFROM:-0700
TZOFFSETTO:-0700
TZNAME:MST
DTSTART:20230101T000000
END:STANDARD
END:VTIMEZONE
BEGIN:VEVENT
DTSTART;TZID=America/Phoenix:20241116T100000
DTEND;TZID=America/Phoenix:20241116T160000
DTSTAMP:20260423T080831
CREATED:20241026T000758Z
LAST-MODIFIED:20241226T223211Z
UID:10000865-1731751200-1731772800@shopdesertridge.com
SUMMARY:Children's Entrepreneur Market
DESCRIPTION:Join the Children’s Entrepreneur Market on November 16 from 10:00 a.m. to 4:00 p.m. in The District! This FREE family-friendly event features kids’ booths with unique products\, a fashion show hosted by Fashion Week 4 Kids\, and live entertainment. Young entrepreneurs handle all aspects of their booths\, promoting creativity and independence. Don’t miss this chance to support building business minds! \nFor more information\, visit the Children’s Entrepreneur Market event page.
URL:https://shopdesertridge.com/event/childrens-entrepreneur-market/
LOCATION:Throughout The District
CATEGORIES:DRM,Festival
ATTACH;FMTTYPE=image/jpeg:https://shopdesertridge.com/wp-content/uploads/2024/12/335.jpg
END:VEVENT
END:VCALENDAR