BEGIN:VCALENDAR
VERSION:2.0
PRODID:-//Desert Ridge Marketplace - ECPv6.15.20//NONSGML v1.0//EN
CALSCALE:GREGORIAN
METHOD:PUBLISH
X-WR-CALNAME:Desert Ridge Marketplace
X-ORIGINAL-URL:https://shopdesertridge.com
X-WR-CALDESC:Events for Desert Ridge Marketplace
REFRESH-INTERVAL;VALUE=DURATION:PT1H
X-Robots-Tag:noindex
X-PUBLISHED-TTL:PT1H
BEGIN:VTIMEZONE
TZID:America/Phoenix
BEGIN:STANDARD
TZOFFSETFROM:-0700
TZOFFSETTO:-0700
TZNAME:MST
DTSTART:20230101T000000
END:STANDARD
END:VTIMEZONE
BEGIN:VEVENT
DTSTART;TZID=America/Phoenix:20240906T180000
DTEND;TZID=America/Phoenix:20240906T210000
DTSTAMP:20260422T193020
CREATED:20230126T034034Z
LAST-MODIFIED:20241226T212626Z
UID:10000678-1725645600-1725656400@shopdesertridge.com
SUMMARY:Live Music: MT and The Streamliners
DESCRIPTION:Join us for a night of Live Music at the District Stage! MT and the Streamliners showcase music from the all-time greatest blues and rock guitarists\, including Eric Clapton\, Jimi Hendrix\, Jeff Beck and more. The band is made up of a trio of skilled rockers—Eric Belec (bass)\, Jon Robert Leach (drums)\, and Mark Thomas (guitar and vocals). \n  \n  \n\nSip & Stroll during the show! Guests aged 21+ can pop into any participating restaurant*\, order a cocktail\, beer\, or wine\, and enjoy it in designated outdoor areas in The District at Desert Ridge Marketplace. Participants include: Marino’s Italian Kitchen & Bar\, Copper Blues Desert Ridge\, Fat Tuesday\, Whining Pig Beer & Wine Bar\, Yard House\, Spitz Mediterranean\, and Islands.\nLearn more about the program HERE. 
URL:https://shopdesertridge.com/event/mt-and-the-streamliners-9-6/
CATEGORIES:DRM,Live Music
ATTACH;FMTTYPE=image/png:https://shopdesertridge.com/wp-content/uploads/2024/12/Untitled-300-x-150-px-1200-x-800-px.png
END:VEVENT
BEGIN:VEVENT
DTSTART;TZID=America/Phoenix:20240907T180000
DTEND;TZID=America/Phoenix:20240907T210000
DTSTAMP:20260422T193020
CREATED:20240807T011316Z
LAST-MODIFIED:20241226T213241Z
UID:10000770-1725732000-1725742800@shopdesertridge.com
SUMMARY:Live Music: Terminal Leave
DESCRIPTION:Join us for a night of Live Music at the District Stage! \nTwenty-four U.S. Air Force active-duty members\, Reserve Citizen Airmen\, spouses and Department of Defense civilians have formed a musical group called the Fighter Country Talent Squad. It all began with Lt. Col. Roger Greenwood\, 944th Operations Group Detachment 2 director of operations\, and his 28-year long passion for playing the guitar. The 24-member group\, known collectively as the Fighter Country Talent Squad\, is comprised of two separate bands. One band is called Soundwave which plays an eclectic assortment of music genres including country and Disney-orientated music. The second band is named Terminal Leave and they play classic rock and modern hard rock. \n  \n\nSip & Stroll during the show! Guests aged 21+ can pop into any participating restaurant*\, order a cocktail\, beer\, or wine\, and enjoy it in designated outdoor areas in The District at Desert Ridge Marketplace. Participants include: Marino’s Italian Kitchen & Bar\, Copper Blues Desert Ridge\, Fat Tuesday\, Whining Pig Beer & Wine Bar\, Yard House\, Spitz Mediterranean\, and Islands.\nLearn more about the program HERE.
URL:https://shopdesertridge.com/event/terminal-leave/
CATEGORIES:DRM,Live Music
ATTACH;FMTTYPE=image/png:https://shopdesertridge.com/wp-content/uploads/2024/12/Untitled-300-x-150-px-1200-x-800-px-3.png
END:VEVENT
BEGIN:VEVENT
DTSTART;TZID=America/Phoenix:20240911T180000
DTEND;TZID=America/Phoenix:20240911T180000
DTSTAMP:20260422T193020
CREATED:20230613T000151Z
LAST-MODIFIED:20241226T223243Z
UID:10008003-1726077600-1726077600@shopdesertridge.com
SUMMARY:Summer Sweat with Radi8 Hot Yoga
DESCRIPTION:Sweat\, Stretch\, and Soothe Your Soul! Enjoy a free 50-minute outdoor yoga series led by experienced instructors with Radi8 Hot Yoga. \n  \nWednesday\, August 14 – 6pm\nReserve Your Spot for Free Here \n  \nWednesday\, August 28 – 6pm\nReserve Your Spot for Free Here \n  \nWednesday\, September 11 – 6pm\nReserve Your Spot for Free Here \n  \nWednesday\, September 25 – 6pm\nReserve Your Spot for Free Here \n  \nThis free outdoor fitness series will be hosted in The Courtyard near Copper Blues Desert Ridge\, Creations Boutique\, and Barnes & Noble.  \nAll fitness levels are welcome. Please bring your own yoga mat and come prepared for the anticipated weather with water\, sunscreen\, etc. 
URL:https://shopdesertridge.com/event/yoga/2024-09-11/
CATEGORIES:DRM,Fitness in the District,Signature
ATTACH;FMTTYPE=image/jpeg:https://shopdesertridge.com/wp-content/uploads/2024/12/VES_DRM_SummerSweat_Website_1.jpg
END:VEVENT
BEGIN:VEVENT
DTSTART;TZID=America/Phoenix:20240911T180000
DTEND;TZID=America/Phoenix:20240911T180000
DTSTAMP:20260422T193020
CREATED:20230613T000151Z
LAST-MODIFIED:20241226T223420Z
UID:10008005-1726077600-1726077600@shopdesertridge.com
SUMMARY:Summer Sweat with Radi8 Hot Yoga
DESCRIPTION:Sweat\, Stretch\, and Soothe Your Soul! Enjoy a free 50-minute outdoor yoga series led by experienced instructors with Radi8 Hot Yoga. \n  \nWednesday\, August 14 – 6pm\nReserve Your Spot for Free Here \n  \nWednesday\, August 28 – 6pm\nReserve Your Spot for Free Here \n  \nWednesday\, September 11 – 6pm\nReserve Your Spot for Free Here \n  \nWednesday\, September 25 – 6pm\nReserve Your Spot for Free Here \n  \nThis free outdoor fitness series will be hosted in The Courtyard near Copper Blues Desert Ridge\, Creations Boutique\, and Barnes & Noble.  \nAll fitness levels are welcome. Please bring your own yoga mat and come prepared for the anticipated weather with water\, sunscreen\, etc. 
URL:https://shopdesertridge.com/event/yoga-2024-08-28/2024-09-11/
CATEGORIES:DRM,Fitness in the District,Signature
ATTACH;FMTTYPE=image/jpeg:https://shopdesertridge.com/wp-content/uploads/2024/12/VES_DRM_SummerSweat_Website_1.jpg
END:VEVENT
BEGIN:VEVENT
DTSTART;TZID=America/Phoenix:20240911T180000
DTEND;TZID=America/Phoenix:20240911T180000
DTSTAMP:20260422T193020
CREATED:20230613T000151Z
LAST-MODIFIED:20241226T223732Z
UID:10000941-1726077600-1726077600@shopdesertridge.com
SUMMARY:Summer Sweat with Radi8 Hot Yoga
DESCRIPTION:Sweat\, Stretch\, and Soothe Your Soul! Enjoy a free 50-minute outdoor yoga series led by experienced instructors with Radi8 Hot Yoga. \n  \nWednesday\, August 14 – 6pm\nReserve Your Spot for Free Here \n  \nWednesday\, August 28 – 6pm\nReserve Your Spot for Free Here \n  \nWednesday\, September 11 – 6pm\nReserve Your Spot for Free HereФ \n  \nWednesday\, September 25 – 6pm\nReserve Your Spot for Free Here \n  \nThis free outdoor fitness series will be hosted in The Courtyard near Copper Blues Desert Ridge\, Creations Boutique\, and Barnes & Noble.  \nAll fitness levels are welcome. Please bring your own yoga mat and come prepared for the anticipated weather with water\, sunscreen\, etc. 
URL:https://shopdesertridge.com/event/yoga-2024-09-11/2024-09-11/
CATEGORIES:DRM,Fitness in the District,Signature
ATTACH;FMTTYPE=image/jpeg:https://shopdesertridge.com/wp-content/uploads/2024/12/VES_DRM_SummerSweat_Website_1.jpg
END:VEVENT
BEGIN:VEVENT
DTSTART;TZID=America/Phoenix:20240911T180000
DTEND;TZID=America/Phoenix:20240911T180000
DTSTAMP:20260422T193020
CREATED:20230613T000151Z
LAST-MODIFIED:20241226T223904Z
UID:10008010-1726077600-1726077600@shopdesertridge.com
SUMMARY:Summer Sweat with Radi8 Hot Yoga
DESCRIPTION:Sweat\, Stretch\, and Soothe Your Soul! Enjoy a free 50-minute outdoor yoga series led by experienced instructors with Radi8 Hot Yoga. \n  \nWednesday\, August 14 – 6pm\nReserve Your Spot for Free Here \n  \nWednesday\, August 28 – 6pm\nReserve Your Spot for Free Here \n  \nWednesday\, September 11 – 6pm\nReserve Your Spot for Free Here \n  \nWednesday\, September 25 – 6pm\nReserve Your Spot for Free Here \n  \nThis free outdoor fitness series will be hosted in The Courtyard near Copper Blues Desert Ridge\, Creations Boutique\, and Barnes & Noble.  \nAll fitness levels are welcome. Please bring your own yoga mat and come prepared for the anticipated weather with water\, sunscreen\, etc. 
URL:https://shopdesertridge.com/event/yoga-2024-09-25/2024-09-11/
CATEGORIES:DRM,Fitness in the District,Signature
ATTACH;FMTTYPE=image/jpeg:https://shopdesertridge.com/wp-content/uploads/2024/12/VES_DRM_SummerSweat_Website_1.jpg
END:VEVENT
BEGIN:VEVENT
DTSTART;TZID=America/Phoenix:20240913T180000
DTEND;TZID=America/Phoenix:20240913T210000
DTSTAMP:20260422T193020
CREATED:20230126T034611Z
LAST-MODIFIED:20241226T213311Z
UID:10000777-1726250400-1726261200@shopdesertridge.com
SUMMARY:Live Music: The Flare
DESCRIPTION:Join us for a night of Live Music at the District Stage! The Flare is a popular live music band based in Tempe\, AZ.  They play feel-good rock\, pop and dance music. The Flare plays live music throughout the year for the Arizona Diamondbacks\, Phoenix 10K Marathon\, Tempe Lakes Beach and Tennis Club\, Pier 54 and other venues and events in and around the Valley.  \n  \n\nSip & Stroll during the show! Guests aged 21+ can pop into any participating restaurant*\, order a cocktail\, beer\, or wine\, and enjoy it in designated outdoor areas in The District at Desert Ridge Marketplace. Participants include: Marino’s Italian Kitchen & Bar\, Copper Blues Desert Ridge\, Fat Tuesday\, Whining Pig Beer & Wine Bar\, Yard House\, Spitz Mediterranean\, and Islands.\nLearn more about the program HERE.
URL:https://shopdesertridge.com/event/theflare-9-13/
CATEGORIES:DRM,Live Music
ATTACH;FMTTYPE=image/png:https://shopdesertridge.com/wp-content/uploads/2024/12/The-Flare.png
END:VEVENT
BEGIN:VEVENT
DTSTART;TZID=America/Phoenix:20240914T180000
DTEND;TZID=America/Phoenix:20240914T200000
DTSTAMP:20260422T193020
CREATED:20240815T011239Z
LAST-MODIFIED:20241226T222612Z
UID:10001115-1726336800-1726344000@shopdesertridge.com
SUMMARY:Mid-Autumn Festival with 9 Dragons Kung Fu
DESCRIPTION:This is a free & family-friendly event celebrating the culture and tradition of the Moon Festival – also known as the Mid-Autumn Festival! As one of the most important holidays in Chinese culture\, the Mid-Autmn Festival celebrates the tradition of the Moon Festival which signifies the best time for harvesting. \nWe invite you to come celebrate and share this tradition with us! Enjoy lion dance performances\, Kung Fu and Tai Chi performances\, Free Crafts\, Art displays and more. The origin story of the Moon Festival will also be displayed. \nEvent location:\nLocated: The District Stage near Dave & Buster’s and H&M at Desert Ridge Marketplace.\n21001 N Tatum Blvd. Phoenix\, AZ 85050
URL:https://shopdesertridge.com/event/autumnfestival/
CATEGORIES:DRM,Festival
ATTACH;FMTTYPE=image/jpeg:https://shopdesertridge.com/wp-content/uploads/2024/12/324A1351-2.jpg
END:VEVENT
BEGIN:VEVENT
DTSTART;TZID=America/Phoenix:20240920T180000
DTEND;TZID=America/Phoenix:20240920T210000
DTSTAMP:20260422T193020
CREATED:20240807T010746Z
LAST-MODIFIED:20241226T210728Z
UID:10000585-1726855200-1726866000@shopdesertridge.com
SUMMARY:Live Music: Alexia Rodriguez
DESCRIPTION:Join us for a night of Live Music at the District Stage! Alexia Rodriguez is the guitarist and vocalist from Eyes Set To Kill\, an international hard rock band from Tempe. Eyes Set To Kill’s strong fanbase has brought them worldwide touring across the US\, Europe and more. Her softer side is shown in a group called The Secret Destroyers\, a trio from Phoenix focused on touching hearts with more acoustic-focused pop. Alexia’s vast experience in the spotlight and writing music shines on stage for a performance that demands attention and breathes talent. \n  \n  \n\nSip & Stroll during the show! Guests aged 21+ can pop into any participating restaurant*\, order a cocktail\, beer\, or wine\, and enjoy it in designated outdoor areas in The District at Desert Ridge Marketplace. Participants include: Marino’s Italian Kitchen & Bar\, Copper Blues Desert Ridge\, Fat Tuesday\, Whining Pig Beer & Wine Bar\, Yard House\, Spitz Mediterranean\, and Islands.\nLearn more about the program HERE. 
URL:https://shopdesertridge.com/event/alexiarodriguez/
CATEGORIES:DRM,Live Music
ATTACH;FMTTYPE=image/png:https://shopdesertridge.com/wp-content/uploads/2024/12/ar.png
END:VEVENT
BEGIN:VEVENT
DTSTART;TZID=America/Phoenix:20240921T180000
DTEND;TZID=America/Phoenix:20240921T210000
DTSTAMP:20260422T193020
CREATED:20231220T083448Z
LAST-MODIFIED:20241226T165816Z
UID:10000805-1726941600-1726952400@shopdesertridge.com
SUMMARY:Live Music: The Swingsets
DESCRIPTION:Join us for a night of Live Music at the District Stage! The Swingsets are a band founded by award-winning guitarist Teak Porter and talented drummer Devin Goodfellow. They play in the musical stylings of 40’s/50’s era Jazz and Swing music.  \n\nSip & Stroll during the show! Guests aged 21+ can pop into any participating restaurant*\, order a cocktail\, beer\, or wine\, and enjoy it in designated outdoor areas in The District at Desert Ridge Marketplace. Participants include: Marino’s Italian Kitchen & Bar\, Copper Blues Desert Ridge\, Fat Tuesday\, Whining Pig Beer & Wine Bar\, Yard House\, Spitz Mediterranean\, and Islands.\nLearn more about the program HERE. 
URL:https://shopdesertridge.com/event/the-swingsets/
CATEGORIES:DRM,Live Music
ATTACH;FMTTYPE=image/jpeg:https://shopdesertridge.com/wp-content/uploads/2024/12/645c732e2bb69_480_sq.jpg
END:VEVENT
BEGIN:VEVENT
DTSTART;TZID=America/Phoenix:20240925T060000
DTEND;TZID=America/Phoenix:20240925T180000
DTSTAMP:20260422T193020
CREATED:20230613T000151Z
LAST-MODIFIED:20241226T223732Z
UID:10008008-1727244000-1727287200@shopdesertridge.com
SUMMARY:Summer Sweat with Radi8 Hot Yoga
DESCRIPTION:Sweat\, Stretch\, and Soothe Your Soul! Enjoy a free 50-minute outdoor yoga series led by experienced instructors with Radi8 Hot Yoga. \n  \nWednesday\, August 14 – 6pm\nReserve Your Spot for Free Here \n  \nWednesday\, August 28 – 6pm\nReserve Your Spot for Free Here \n  \nWednesday\, September 11 – 6pm\nReserve Your Spot for Free HereФ \n  \nWednesday\, September 25 – 6pm\nReserve Your Spot for Free Here \n  \nThis free outdoor fitness series will be hosted in The Courtyard near Copper Blues Desert Ridge\, Creations Boutique\, and Barnes & Noble.  \nAll fitness levels are welcome. Please bring your own yoga mat and come prepared for the anticipated weather with water\, sunscreen\, etc. 
URL:https://shopdesertridge.com/event/yoga-2024-09-11/2024-09-25/
CATEGORIES:DRM,Fitness in the District,Signature
ATTACH;FMTTYPE=image/jpeg:https://shopdesertridge.com/wp-content/uploads/2024/12/VES_DRM_SummerSweat_Website_1.jpg
END:VEVENT
BEGIN:VEVENT
DTSTART;TZID=America/Phoenix:20240925T180000
DTEND;TZID=America/Phoenix:20240925T180000
DTSTAMP:20260422T193020
CREATED:20230613T000151Z
LAST-MODIFIED:20241226T223243Z
UID:10008004-1727287200-1727287200@shopdesertridge.com
SUMMARY:Summer Sweat with Radi8 Hot Yoga
DESCRIPTION:Sweat\, Stretch\, and Soothe Your Soul! Enjoy a free 50-minute outdoor yoga series led by experienced instructors with Radi8 Hot Yoga. \n  \nWednesday\, August 14 – 6pm\nReserve Your Spot for Free Here \n  \nWednesday\, August 28 – 6pm\nReserve Your Spot for Free Here \n  \nWednesday\, September 11 – 6pm\nReserve Your Spot for Free Here \n  \nWednesday\, September 25 – 6pm\nReserve Your Spot for Free Here \n  \nThis free outdoor fitness series will be hosted in The Courtyard near Copper Blues Desert Ridge\, Creations Boutique\, and Barnes & Noble.  \nAll fitness levels are welcome. Please bring your own yoga mat and come prepared for the anticipated weather with water\, sunscreen\, etc. 
URL:https://shopdesertridge.com/event/yoga/2024-09-25/
CATEGORIES:DRM,Fitness in the District,Signature
ATTACH;FMTTYPE=image/jpeg:https://shopdesertridge.com/wp-content/uploads/2024/12/VES_DRM_SummerSweat_Website_1.jpg
END:VEVENT
BEGIN:VEVENT
DTSTART;TZID=America/Phoenix:20240925T180000
DTEND;TZID=America/Phoenix:20240925T180000
DTSTAMP:20260422T193020
CREATED:20230613T000151Z
LAST-MODIFIED:20241226T223904Z
UID:10000943-1727287200-1727287200@shopdesertridge.com
SUMMARY:Summer Sweat with Radi8 Hot Yoga
DESCRIPTION:Sweat\, Stretch\, and Soothe Your Soul! Enjoy a free 50-minute outdoor yoga series led by experienced instructors with Radi8 Hot Yoga. \n  \nWednesday\, August 14 – 6pm\nReserve Your Spot for Free Here \n  \nWednesday\, August 28 – 6pm\nReserve Your Spot for Free Here \n  \nWednesday\, September 11 – 6pm\nReserve Your Spot for Free Here \n  \nWednesday\, September 25 – 6pm\nReserve Your Spot for Free Here \n  \nThis free outdoor fitness series will be hosted in The Courtyard near Copper Blues Desert Ridge\, Creations Boutique\, and Barnes & Noble.  \nAll fitness levels are welcome. Please bring your own yoga mat and come prepared for the anticipated weather with water\, sunscreen\, etc. 
URL:https://shopdesertridge.com/event/yoga-2024-09-25/2024-09-25/
CATEGORIES:DRM,Fitness in the District,Signature
ATTACH;FMTTYPE=image/jpeg:https://shopdesertridge.com/wp-content/uploads/2024/12/VES_DRM_SummerSweat_Website_1.jpg
END:VEVENT
BEGIN:VEVENT
DTSTART;TZID=America/Phoenix:20240927T180000
DTEND;TZID=America/Phoenix:20240927T210000
DTSTAMP:20260422T193020
CREATED:20211222T225641Z
LAST-MODIFIED:20241226T213107Z
UID:10000739-1727460000-1727470800@shopdesertridge.com
SUMMARY:Live Music: Sophia Marie
DESCRIPTION:Join us for a night of Live Music at the District Stage! Sophia Marie Humbert is an accomplished singer\, songwriter\, and multi-instrumentalist from Anthem\, AZ. She loves to share her passion for music by performing for live audiences at venues across the Phoenix area. Having performed since 2014\, Sophia Marie has completed 200+ shows\, including the White House in Washington DC. She puts her beautifully unique sound to popular covers from today and those from years past.  \n  \n\nSip & Stroll during the show! Guests aged 21+ can pop into any participating restaurant*\, order a cocktail\, beer\, or wine\, and enjoy it in designated outdoor areas in The District at Desert Ridge Marketplace. Participants include: Marino’s Italian Kitchen & Bar\, Copper Blues Desert Ridge\, Fat Tuesday\, Whining Pig Beer & Wine Bar\, Yard House\, Spitz Mediterranean\, and Islands.\nLearn more about the program HERE.
URL:https://shopdesertridge.com/event/sophia-marie-9-27/
CATEGORIES:DRM,Live Music
ATTACH;FMTTYPE=image/jpeg:https://shopdesertridge.com/wp-content/uploads/2024/12/84981006_2218289341812199_6420240508471214080_n.jpg
END:VEVENT
END:VCALENDAR