BEGIN:VCALENDAR
VERSION:2.0
PRODID:-//Desert Ridge Marketplace - ECPv6.15.20//NONSGML v1.0//EN
CALSCALE:GREGORIAN
METHOD:PUBLISH
X-ORIGINAL-URL:https://shopdesertridge.com
X-WR-CALDESC:Events for Desert Ridge Marketplace
REFRESH-INTERVAL;VALUE=DURATION:PT1H
X-Robots-Tag:noindex
X-PUBLISHED-TTL:PT1H
BEGIN:VTIMEZONE
TZID:America/Phoenix
BEGIN:STANDARD
TZOFFSETFROM:-0700
TZOFFSETTO:-0700
TZNAME:MST
DTSTART:20250101T000000
END:STANDARD
END:VTIMEZONE
BEGIN:VEVENT
DTSTART;TZID=America/Phoenix:20260327T180000
DTEND;TZID=America/Phoenix:20260327T210000
DTSTAMP:20260420T171122
CREATED:20260224T165113Z
LAST-MODIFIED:20260224T165113Z
UID:10008715-1774634400-1774645200@shopdesertridge.com
SUMMARY:Live Music: Nina Speaking
DESCRIPTION:Join us for a night of Live Music at the District Stage featuring Nina Speaking! \n\nSip & Stroll during the show! Guests aged 21+ can pop into any participating restaurant*\, order a cocktail\, beer\, or wine\, and enjoy it in designated outdoor areas in The District at Desert Ridge Marketplace. Participants include: Marino’s Italian Kitchen & Bar\, Copper Blues Desert Ridge\, Whining Pig Beer & Wine Bar\, Yard House\, and Islands.\nLearn more about the program HERE.
URL:https://shopdesertridge.com/event/live-music-nina-speaking-5/
LOCATION:The District Stage
CATEGORIES:DRM,Live Music
ATTACH;FMTTYPE=image/jpeg:https://shopdesertridge.com/wp-content/uploads/2025/02/LiveMusic-v2-Website.jpg
END:VEVENT
BEGIN:VEVENT
DTSTART;TZID=America/Phoenix:20260327T183000
DTEND;TZID=America/Phoenix:20260327T210000
DTSTAMP:20260420T171122
CREATED:20260211T151853Z
LAST-MODIFIED:20260211T152652Z
UID:10008706-1774636200-1774645200@shopdesertridge.com
SUMMARY:Power-Up Paint Night at As You Wish
DESCRIPTION:Friday\, March 27 | 6:30PM-9:00PM | $12+ Price of Pottery \nPower Up Paint Night is a family friendly\, open style workshop inspired by the classic Mario Bros game world\, featuring themed traceable templates\, samples\, and hands on guidance to help guests create their own game inspired pieces. Registration required.  \nREGISTER HERE
URL:https://shopdesertridge.com/event/power-up-paint-night-at-as-you-wish/
LOCATION:As You Wish Pottery
ATTACH;FMTTYPE=image/png:https://shopdesertridge.com/wp-content/uploads/2026/02/Power-Up-Paint-Night-1920x1080-1.png
END:VEVENT
END:VCALENDAR