BEGIN:VCALENDAR
VERSION:2.0
PRODID:-//Desert Ridge Marketplace - ECPv6.15.20//NONSGML v1.0//EN
CALSCALE:GREGORIAN
METHOD:PUBLISH
X-WR-CALNAME:Desert Ridge Marketplace
X-ORIGINAL-URL:https://shopdesertridge.com
X-WR-CALDESC:Events for Desert Ridge Marketplace
REFRESH-INTERVAL;VALUE=DURATION:PT1H
X-Robots-Tag:noindex
X-PUBLISHED-TTL:PT1H
BEGIN:VTIMEZONE
TZID:America/Phoenix
BEGIN:STANDARD
TZOFFSETFROM:-0700
TZOFFSETTO:-0700
TZNAME:MST
DTSTART:20250101T000000
END:STANDARD
END:VTIMEZONE
BEGIN:VEVENT
DTSTART;TZID=America/Phoenix:20260215T170000
DTEND;TZID=America/Phoenix:20260215T210000
DTSTAMP:20260424T081415
CREATED:20260202T212312Z
LAST-MODIFIED:20260202T212312Z
UID:10008705-1771174800-1771189200@shopdesertridge.com
SUMMARY:Dueling Guitars at Foley Ranch
DESCRIPTION:Dueling Guitars at Foley Ranch \nSunday\, February 15 | 5PM \nYou’re invited to experience the Six String Showdown at Foley Ranch! Think dueling pianos\, but with guitars! \n\nDueling Guitars starts at 5PM\nSwing Lessons 6PM-6:30PM\nBeginner Line Dance Lesson 7:30PM-8PM\nDueling Guitars end at 9PM
URL:https://shopdesertridge.com/event/dueling-guitars-at-foley-ranch/
LOCATION:Foley Ranch
ATTACH;FMTTYPE=image/jpeg:https://shopdesertridge.com/wp-content/uploads/2026/02/0Y7A1297.jpg
END:VEVENT
END:VCALENDAR