BEGIN:VCALENDAR
VERSION:2.0
PRODID:-//Desert Ridge Marketplace - ECPv6.15.20//NONSGML v1.0//EN
CALSCALE:GREGORIAN
METHOD:PUBLISH
X-ORIGINAL-URL:https://shopdesertridge.com
X-WR-CALDESC:Events for Desert Ridge Marketplace
REFRESH-INTERVAL;VALUE=DURATION:PT1H
X-Robots-Tag:noindex
X-PUBLISHED-TTL:PT1H
BEGIN:VTIMEZONE
TZID:America/Phoenix
BEGIN:STANDARD
TZOFFSETFROM:-0700
TZOFFSETTO:-0700
TZNAME:MST
DTSTART:20230101T000000
END:STANDARD
END:VTIMEZONE
BEGIN:VEVENT
DTSTART;TZID=America/Phoenix:20241115T180000
DTEND;TZID=America/Phoenix:20241115T210000
DTSTAMP:20260425T194939
CREATED:20241029T034539Z
LAST-MODIFIED:20241226T203914Z
UID:10000493-1731693600-1731704400@shopdesertridge.com
SUMMARY:As You Wish - The Giving Plate Workshop
DESCRIPTION:Friday\, November 15th | 6:00PM – 9:00PM | $50 all-inclusive \nJoin us to create your own Giving Plate where we will provide you with a special sticker stencil to use for the words\, or you can choose to paint them yourself! Add your own personal touch by decorating the rim however you like! This unique platter is perfect for sharing treats and spreading kindness to friends and family\, especially during the holiday season. \nREGISTER HERE
URL:https://shopdesertridge.com/event/as-you-wish-the-giving-plate-workshop/
ATTACH;FMTTYPE=image/png:https://shopdesertridge.com/wp-content/uploads/2024/12/1-9-1.png
END:VEVENT
BEGIN:VEVENT
DTSTART;TZID=America/Phoenix:20241115T180000
DTEND;TZID=America/Phoenix:20241115T210000
DTSTAMP:20260425T194939
CREATED:20241031T022518Z
LAST-MODIFIED:20241226T213144Z
UID:10000753-1731693600-1731704400@shopdesertridge.com
SUMMARY:Live Music: Suzie and The Acceleratorz
DESCRIPTION:Join us for a night of Live Music at the District Stage! \n\nSip & Stroll during the show! Guests aged 21+ can pop into any participating restaurant*\, order a cocktail\, beer\, or wine\, and enjoy it in designated outdoor areas in The District at Desert Ridge Marketplace. Participants include: Marino’s Italian Kitchen & Bar\, Copper Blues Desert Ridge\, Fat Tuesday\, Whining Pig Beer & Wine Bar\, Yard House\, and Islands.\nLearn more about the program HERE.
URL:https://shopdesertridge.com/event/live-music-suzie-and-the-acceleratorz/
CATEGORIES:Live Music
ATTACH;FMTTYPE=image/png:https://shopdesertridge.com/wp-content/uploads/2024/12/Untitled-design-3.png
END:VEVENT
END:VCALENDAR